BEGIN:VCALENDAR
VERSION:2.0
PRODID:-//Patriot Guard Riders - ECPv5.3.2.1//NONSGML v1.0//EN
CALSCALE:GREGORIAN
METHOD:PUBLISH
X-WR-CALNAME:Patriot Guard Riders
X-ORIGINAL-URL:https://www.patriotguard.org
X-WR-CALDESC:Events for Patriot Guard Riders
BEGIN:VTIMEZONE
TZID:America/New_York
BEGIN:DAYLIGHT
TZOFFSETFROM:-0500
TZOFFSETTO:-0400
TZNAME:EDT
DTSTART:20190310T070000
END:DAYLIGHT
BEGIN:STANDARD
TZOFFSETFROM:-0400
TZOFFSETTO:-0500
TZNAME:EST
DTSTART:20191103T060000
END:STANDARD
END:VTIMEZONE
BEGIN:VEVENT
DTSTART;VALUE=DATE:20190813
DTEND;VALUE=DATE:20190814
DTSTAMP:20210402T105514
CREATED:20190811T023934Z
LAST-MODIFIED:20190811T023934Z
UID:170520-1565654400-1565740799@www.patriotguard.org
SUMMARY:Robert Gardner
DESCRIPTION:Honor Mission\nRobert Gardner\, Veteran\nUSA – Vietnam\nDurham\, North Carolina – 08-13-19\n\n\n\nABOUT THE MISSION: \nFellow Patriots\, we have been invited to stand for US Army Veteran Robert Gardner as he stood for us. This will be a flag line only mission.\nThank you for all that you do to honor our heroes and their families.\n\n\nPRIMARY STAGING DETAILS: 08-13-19 \nStaging Time: 5:00 PM\n \nLiberty Baptist Church\n3864 Guess Road\nDurham\, North Carolina 27705\n\n\nRide Captain: \nRandy Bright\n919-616-4603\n\n\nSpecial Instructions: \nStaging: 5:00PM\nBriefing: 5:30PM\nFlagline: Immediately following briefing.\nWe will stand down when the service begins at 7:00 PM.\n\n\nFlags & Water:\nFlags will be provided\nLarge Bike Flags will NOT be needed.\nWater will be provided.\n\n\n\nSubmitted By: Randy Bright \nPosition: North Carolina Ride Captain \n\nNote: You do not have to own/ride a motorcycle or be a veteran to join\, and membership is Free. The only requirement is RESPECT! To subscribe to receive mission notices\, log into the National Site and click on the Members tab at the top. Select the Subscribe to PGR Missions option.\n Print This Page
URL:https://www.patriotguard.org/mission/robert-gardner/
CATEGORIES:Honor Mission
END:VEVENT
END:VCALENDAR