BEGIN:VCALENDAR
VERSION:2.0
PRODID:-//Patriot Guard Riders - ECPv5.3.2.1//NONSGML v1.0//EN
CALSCALE:GREGORIAN
METHOD:PUBLISH
X-WR-CALNAME:Patriot Guard Riders
X-ORIGINAL-URL:https://www.patriotguard.org
X-WR-CALDESC:Events for Patriot Guard Riders
BEGIN:VTIMEZONE
TZID:America/New_York
BEGIN:DAYLIGHT
TZOFFSETFROM:-0500
TZOFFSETTO:-0400
TZNAME:EDT
DTSTART:20190310T070000
END:DAYLIGHT
BEGIN:STANDARD
TZOFFSETFROM:-0400
TZOFFSETTO:-0500
TZNAME:EST
DTSTART:20191103T060000
END:STANDARD
END:VTIMEZONE
BEGIN:VEVENT
DTSTART;VALUE=DATE:20190717
DTEND;VALUE=DATE:20190718
DTSTAMP:20210403T205328
CREATED:20190717T023550Z
LAST-MODIFIED:20190717T023550Z
UID:167799-1563321600-1563407999@www.patriotguard.org
SUMMARY:Robert Eric Fronckowiak
DESCRIPTION:Honor Mission\nRobert Eric Fronckowiak\, Veteran\nUSA – WoT\nDallas\, Texas – 07-17-19\n\n\n\nABOUT THE MISSION: \nInterment.\n\n\nPRIMARY STAGING DETAILS: 07-17-19 \nStaging Time: 1:30 PM\n \nDFW National Cemetery\n2000 Mountain Creek Pkwy\nDallas\, Texas 75211\n\n\nRide Captain: \nJohn Blase\nblase02@sbcglobal.net\n(972) 467-7527\n\n\nSpecial Instructions: \nStaging Time: 1:30\nBriefing Time: 1:45\nIn Position/KSU Time: 2:00\nStarting Time: 2:15\nWe will stage at the information center. At the briefing\, honor bikes will be selected\, then go to lane 2 and all other riders will go to the assigned shelter\, set the flag line and wait for the procession to arrive. The PGR Certificate will be presented in the lane and I will ask if pall bearers are needed. After the service ends\, flags will be returned to storage\, riders debriefed and dismissed.\n\n\nFlags & Water:\nFlags will be provided\nIf you have large bike flags\, please bring them.\nWater will be provided.\n\n\n\nSubmitted By: Dan Mathys \nPosition: Texas Ride Captain \n\nNote: You do not have to own/ride a motorcycle or be a veteran to join\, and membership is Free. The only requirement is RESPECT! To subscribe to receive mission notices\, log into the National Site and click on the Members tab at the top. Select the Subscribe to PGR Missions option.\n Print This Page
URL:https://www.patriotguard.org/mission/robert-eric-fronckowiak/
CATEGORIES:Honor Mission
END:VEVENT
END:VCALENDAR