BEGIN:VCALENDAR
VERSION:2.0
PRODID:-//Patriot Guard Riders - ECPv5.6.0//NONSGML v1.0//EN
CALSCALE:GREGORIAN
METHOD:PUBLISH
X-WR-CALNAME:Patriot Guard Riders
X-ORIGINAL-URL:https://www.patriotguard.org
X-WR-CALDESC:Events for Patriot Guard Riders
BEGIN:VTIMEZONE
TZID:America/New_York
BEGIN:DAYLIGHT
TZOFFSETFROM:-0500
TZOFFSETTO:-0400
TZNAME:EDT
DTSTART:20160313T070000
END:DAYLIGHT
BEGIN:STANDARD
TZOFFSETFROM:-0400
TZOFFSETTO:-0500
TZNAME:EST
DTSTART:20161106T060000
END:STANDARD
END:VTIMEZONE
BEGIN:VEVENT
DTSTART;TZID=America/New_York:20160603T090000
DTEND;TZID=America/New_York:20160603T110000
DTSTAMP:20210513T130632
CREATED:20160603T130000Z
LAST-MODIFIED:20191201T145650Z
UID:411804-1464944400-1464951600@www.patriotguard.org
SUMMARY:Robert Emmet Kuntze\, 83\, USN Veteran / Springfield
DESCRIPTION:ET1 Robert Emmet Kuntze\, 83\nSpringfield\, Ohio\nUnited States Navy Korean War Era Veteran \n [ATTACH=CONFIG]4720[/ATTACH]\n\n\nGraveside Service Location: \nRose Hill Burial Park\n4781 S Charleston Pike \nSpringfield\, Ohio 45502\n03 June 2016@1500hrs-(3 pm) \nStaging: 03 June 2016@1400hrs-(2 pm)  \nMap: https://bit.ly/1YO7t1V \nThe end of the service will conclude our mission \nDistrict  #4 Ride Captain Bud Zartman is assigned this mission of Honor\, Dignity  and Respect. Please follow his instructions. \nDress per the weather  conditions. \nUse your own judgment on how you get safely to and from the  mission. \nIf you need to contact Bud email him at:  justcallmebud@woh.rr.com \n \n\n\n“Rest in Peace ET1 Kuntze” \n\n[ATTACH=CONFIG]4719[/ATTACH]
URL:https://www.patriotguard.org/mission/robert-emmet-kuntze-83-usn-veteran-springfield/
CATEGORIES:Archive
END:VEVENT
END:VCALENDAR