BEGIN:VCALENDAR
VERSION:2.0
PRODID:-//Patriot Guard Riders - ECPv5.3.2.1//NONSGML v1.0//EN
CALSCALE:GREGORIAN
METHOD:PUBLISH
X-WR-CALNAME:Patriot Guard Riders
X-ORIGINAL-URL:https://www.patriotguard.org
X-WR-CALDESC:Events for Patriot Guard Riders
BEGIN:VTIMEZONE
TZID:America/New_York
BEGIN:DAYLIGHT
TZOFFSETFROM:-0500
TZOFFSETTO:-0400
TZNAME:EDT
DTSTART:20190310T070000
END:DAYLIGHT
BEGIN:STANDARD
TZOFFSETFROM:-0400
TZOFFSETTO:-0500
TZNAME:EST
DTSTART:20191103T060000
END:STANDARD
END:VTIMEZONE
BEGIN:VEVENT
DTSTART;VALUE=DATE:20190806
DTEND;VALUE=DATE:20190807
DTSTAMP:20210402T111819
CREATED:20190731T042733Z
LAST-MODIFIED:20190731T042959Z
UID:169231-1565049600-1565135999@www.patriotguard.org
SUMMARY:Robert Edward Kidney
DESCRIPTION:Honor Mission\nRobert Edward Kidney\, Veteran\nUSN\nGulf Breeze\, Florida – 08-06-19\n\n\n ABOUT THE MISSION:\n\nThe family of SK3 Robert Edward Kidney has requested that the Patriot Guard stand in his honor and escort him to Barrancas National Cemetery\, NAS Pensacola Florida. Sk3 Kidney honorably served in the United States Navy for 3 years\, 7 months\, 29 days and was released from active duty on 2 June 1967. Services will be at St. Sylvester’s Catholic Church\, 6464 Gulf Breeze Parkway\, Gulf Breeze Fl. with interment at Barrancas National Cemetery at 12:30 PM.\n\n\nPRIMARY STAGING DETAILS: 08-06-19 \nStaging Time: 09:30 AM \nMcDonalds\n3308 Gulf Breeze Parkway\nGulf Breeze\, Florida\n\n\nRide Captain: \nHarry Salzer (Old Doc)\n251 716 0417\nhorsiin5@yahoo.com\n\n\nSpecial Instructions: \nNaval Air Station requires long sleeve shirts or long jacket\, trousers\, long-fingered gloves\, DOT approved helmet leather\, footwear covering the ankles\, and appropriate eye protection while riding onboard the base.\n\n10:15 AM – Briefing for all riders\n10:30 AM – KSU to St Sylvester’s Catholic Church. (Note) the church is 8 1/2 miles from McDonalds\n11:30 AM – Roll time to Barrancas National Cemetery\n12:30 PM – Honors at Barrancas Site “B”\n\n\nFlags & Water:\nFlags will be provided\nIf you have large bike flags\, please bring them.\nWater will be provided.\n\n\n\nSubmitted By: Ray Doyle \nPosition: Florida Assistant State Captain \n\n\nNote: You do not have to own/ride a motorcycle or be a veteran to join\, and membership is Free. The only requirement is RESPECT! To subscribe to receive mission notices\, log into the National Site and click on the Members tab at the top. Select the Subscribe to PGR Missions option.
URL:https://www.patriotguard.org/mission/robert-edward-kidney/
CATEGORIES:Honor Mission
END:VEVENT
END:VCALENDAR