BEGIN:VCALENDAR
VERSION:2.0
PRODID:-//Patriot Guard Riders - ECPv5.3.2.1//NONSGML v1.0//EN
CALSCALE:GREGORIAN
METHOD:PUBLISH
X-WR-CALNAME:Patriot Guard Riders
X-ORIGINAL-URL:https://www.patriotguard.org
X-WR-CALDESC:Events for Patriot Guard Riders
BEGIN:VTIMEZONE
TZID:America/New_York
BEGIN:DAYLIGHT
TZOFFSETFROM:-0500
TZOFFSETTO:-0400
TZNAME:EDT
DTSTART:20190310T070000
END:DAYLIGHT
BEGIN:STANDARD
TZOFFSETFROM:-0400
TZOFFSETTO:-0500
TZNAME:EST
DTSTART:20191103T060000
END:STANDARD
END:VTIMEZONE
BEGIN:VEVENT
DTSTART;VALUE=DATE:20190606
DTEND;VALUE=DATE:20190607
DTSTAMP:20210405T044947
CREATED:20190604T102316Z
LAST-MODIFIED:20190604T102316Z
UID:163588-1559779200-1559865599@www.patriotguard.org
SUMMARY:Robert Earle
DESCRIPTION:HONOR MISSION\nRobert Earle\, Veteran\nUSN\nMedical Lake\, Washington – 06-06-19\n\n\n\n\nABOUT THE MISSION: \nThe family of Robert Earle has requested our presence to honor Robert’s service in the United States Navy with a flag line at his interment service and military honors.  Robert served in the United States Navy as a Boiler Tender during the Blockade of Cuba.\n\n\nPRIMARY STAGING DETAILS: 06-06-19 \nStaging Time: 2:00 p.m.  \nDenny’s Harvest Foods\n215 Hwy 902\nMedical Lake\, Washington 99022\n\n\nRide Captain: \nTim Schudel\, t1msch2del1524@gmail.com\, (509) 220-2045\nCage Support: Bud “Mac” McCormack\, budm8005@gmail.com\, (509) 279-8005‬\n\n\nSpecial Instructions: \n2:00 pm – Staging and sign-in\n2:20 pm – Mission briefing\n2:30 pm – KSU\n2:35 pm – Arrival and setup\n2:45 pm – Flag line in place\n3:00 pm – Service begins.\nThe flag line will be dismissed at the discretion of the Ride Captain following military honors.\n\n\nFlags & Water:\nFlags will be provided\nLarge Bike Flags will NOT be needed.\nWater will be provided.\n\n\nSubmitted By: Howard Griffith \nPosition: Washington Ride Captain \n\nNote: You do not have to own/ride a motorcycle or be a veteran to join\, and membership is Free. The only requirement is RESPECT! To subscribe to receive mission notices\, log into the National Site and click on the Members tab at the top. Select the Subscribe to PGR Missions option.\n Print This Page
URL:https://www.patriotguard.org/mission/robert-earle/
CATEGORIES:Honor Mission
END:VEVENT
END:VCALENDAR