BEGIN:VCALENDAR
VERSION:2.0
PRODID:-//Patriot Guard Riders - ECPv5.6.0//NONSGML v1.0//EN
CALSCALE:GREGORIAN
METHOD:PUBLISH
X-WR-CALNAME:Patriot Guard Riders
X-ORIGINAL-URL:https://www.patriotguard.org
X-WR-CALDESC:Events for Patriot Guard Riders
BEGIN:VTIMEZONE
TZID:America/New_York
BEGIN:DAYLIGHT
TZOFFSETFROM:-0500
TZOFFSETTO:-0400
TZNAME:EDT
DTSTART:20160313T070000
END:DAYLIGHT
BEGIN:STANDARD
TZOFFSETFROM:-0400
TZOFFSETTO:-0500
TZNAME:EST
DTSTART:20161106T060000
END:STANDARD
END:VTIMEZONE
BEGIN:VEVENT
DTSTART;TZID=America/New_York:20160608T090000
DTEND;TZID=America/New_York:20160608T110000
DTSTAMP:20210513T174724
CREATED:20160608T130000Z
LAST-MODIFIED:20191201T145326Z
UID:411500-1465376400-1465383600@www.patriotguard.org
SUMMARY:Robert E. Hayes\, USARNG Veteran / Claremore
DESCRIPTION:The family of US Army National Guard Veteran Robert Edward Hayes has asked the Patriot Guard Riders to stand a flag line at his funeral service scheduled for 1300 Hours on Wednesday\, 08 June 2016 at the First Christian Church\, 200 E 5th St\, Claremore\, OK. Upon conclusion of the funeral service\, the PGR will escort this Hero and his family approximately 35 miles to White Oak Cemetery near Vinita\, OK for interment. The PGR has been asked to play taps\, fold & present the flag. \nDate:  Wednesday\, 08 June 2016 at 1300 Hours \nStaging:  1145 Hours\nFirst Christian Church\n200 E 5th St\nClaremore\, OK\n\nMandatory Briefing:  1200 Hours\nYou MUST attend the briefing to ride in the escort. \nFlag Line:  Following the briefing \nWeather:  Temperature in the low 90s and sunny.  Remember to Hydrate! Hydrate! Hydrate!!! \nRCIC:\nMorris “Pike Pass” Noftsger\nmorrisnoftsger@yahoo.com\n918.261.1197 \nHonorary RC:\nMichael Smith\nPGR member
URL:https://www.patriotguard.org/mission/robert-e-hayes-usarng-veteran-claremore/
CATEGORIES:Archive
END:VEVENT
END:VCALENDAR