BEGIN:VCALENDAR
VERSION:2.0
PRODID:-//Patriot Guard Riders - ECPv5.3.2.1//NONSGML v1.0//EN
CALSCALE:GREGORIAN
METHOD:PUBLISH
X-WR-CALNAME:Patriot Guard Riders
X-ORIGINAL-URL:https://www.patriotguard.org
X-WR-CALDESC:Events for Patriot Guard Riders
BEGIN:VTIMEZONE
TZID:America/New_York
BEGIN:DAYLIGHT
TZOFFSETFROM:-0500
TZOFFSETTO:-0400
TZNAME:EDT
DTSTART:20190310T070000
END:DAYLIGHT
BEGIN:STANDARD
TZOFFSETFROM:-0400
TZOFFSETTO:-0500
TZNAME:EST
DTSTART:20191103T060000
END:STANDARD
END:VTIMEZONE
BEGIN:VEVENT
DTSTART;VALUE=DATE:20190608
DTEND;VALUE=DATE:20190609
DTSTAMP:20210405T024135
CREATED:20190607T192812Z
LAST-MODIFIED:20190607T192812Z
UID:163895-1559952000-1560038399@www.patriotguard.org
SUMMARY:Robert Duane Knightner
DESCRIPTION:Honor Mission\nRobert Duane Knightner\, Veteran\nARNG – WoT\nPort Allegany\, Pennsylvania – 06-08-19\n\n\n\nABOUT THE MISSION: \nThe Patriot Guard Riders have been invited by the family of Robert D Knightner\, to stand in silent honor for his service.  Robert proudly served in the U.S. Army National Guard from February 1996-February 2011\, assigned to Co. A1 112th Infantry Battalion with one tour overseas during Operation Iraqi Freedom.  Robert received the Army Commendation Medal\, Army Good Conduct Medal\, Army Components Achievement Medal (2nd Award)\, National Defense Service Medal\, Armed Forces Reserve MedalW/M Device\, Global War On Terrorism Expeditionary Medal and Global War On Terrorism Service Medal.\nRobert served our country with honor\, it’s now our turn to stand in honor for him.\n\n\nPRIMARY STAGING DETAILS: 06-08-19 \nStaging Time: 7:00 a.m. \nSheetz\n101 N Main St\nPort Allegany\, Pennsylvania 16743\nMAP\n\n\nRide Captain: \nTony Mingo\ntony.mingo@level3.com\n(412) 215-1496\n\nAssisting:  Jeremy Bernard\, barnyard@agnation.org\, (814) 331-8820\n\n\nSpecial Instructions: \nBelow are additional locations and times for KSU for those who want to join us.\nTimes are subject to change so\, please refer back to the post for possible updates before heading out.\n\nSheetz: 7:20 AM\n3014 US-219\nKane\, PA 16735\nMAP\n\nRed Apple Kwik Fill: 8:00 AM\nRoute 66\nMarienville\, PA 16239\nMAP\n\nT/A Truck Stop: 8:45 AM\n245 Allegheny Blvd\nBrookville\, PA 15825\nMAP\n\nStaging/Briefing: 10:00 AM\nOakland Church of God\n122 Kohlersburg Rd\nDistant\, PA 16223\nMAP\n\nFlag Line: TBD\nFriends will be received from 11:00 AM-2:00 PM\nA Memorial Service will follow at 2:00 PM\n\nPlease watch the weather\, dress accordingly and hydrate.\n\n\nFlags & Water:\nFlags will not be provided\nLarge Bike Flags will NOT be needed.\nWater WILL NOT be provided\, please bring your own.\n\n\nSubmitted By: Marcy Sorensen \nPosition: Pennsylvania Ride Captain \n\nNote: You do not have to own/ride a motorcycle or be a veteran to join\, and membership is Free. The only requirement is RESPECT! To subscribe to receive mission notices\, log into the National Site and click on the Members tab at the top. Select the Subscribe to PGR Missions option.\n Print This Page
URL:https://www.patriotguard.org/mission/robert-duane-knightner/
CATEGORIES:Honor Mission
END:VEVENT
END:VCALENDAR