BEGIN:VCALENDAR
VERSION:2.0
PRODID:-//Patriot Guard Riders - ECPv5.3.2.1//NONSGML v1.0//EN
CALSCALE:GREGORIAN
METHOD:PUBLISH
X-WR-CALNAME:Patriot Guard Riders
X-ORIGINAL-URL:https://www.patriotguard.org
X-WR-CALDESC:Events for Patriot Guard Riders
BEGIN:VTIMEZONE
TZID:America/New_York
BEGIN:DAYLIGHT
TZOFFSETFROM:-0500
TZOFFSETTO:-0400
TZNAME:EDT
DTSTART:20180311T070000
END:DAYLIGHT
BEGIN:STANDARD
TZOFFSETFROM:-0400
TZOFFSETTO:-0500
TZNAME:EST
DTSTART:20181104T060000
END:STANDARD
END:VTIMEZONE
BEGIN:VEVENT
DTSTART;VALUE=DATE:20180703
DTEND;VALUE=DATE:20180704
DTSTAMP:20210404T145911
CREATED:20180629T125042Z
LAST-MODIFIED:20180629T125042Z
UID:125832-1530576000-1530662399@www.patriotguard.org
SUMMARY:Robert Drapeau
DESCRIPTION:Honor Mission\nRobert Drapeau\, Retired\nUSAF – Vietnam\nCave Creek\, Arizona – 07-03-18\n\n\n\n\nABOUT THE MISSION: \nThe family of Robert Drapeau has requested the Patriot Guard Riders provide an escort and stand a flag line for his 12:30 PM military honors at National Memorial Cemetery of Arizona. It is our distinct honor and privilege to do so. We thank the Drapeau family for inviting us to participate in showing Robert the honor and respect he so rightfully deserves.Robert entered in the United States Air Force on 11 May 1962. He worked in operations as a supply services specialist\, stationed in Thailand during his deployment and supporting our troops in the Vietnam War. After his deployment in Thailand ended\, Robert worked as a medical administrator\, again supporting our troops. Robert completed his 21 year career and was honorably discharged in 1983.  The Drapeau family has lost a loving husband\, father\, grandfather\, son and brother. He will be dearly missed and forever in their hearts.  The Patriot Guard Riders\, not just those of us here today\, but for all of our members throughout the State of Arizona and from across the country\, we extend our heartfelt condolences to Robert’s family and friends for your loss.\n\n\nPRIMARY STAGING DETAILS: 07-03-18 \nStaging Time: 11:10 a.m. \nSt. Gabriel’s Catholic Church\n32648 N Cave Creek Rd\nCave Creek\, Arizona 85331\n\n\nRide Captain: \nDavid “Murf” Murphy\n480-406-4049\nazpgrmurf@gmai.com\n\n\nSpecial Instructions: \nPlease enter staging area as quietly as possible\, Mass will be underway.  After honorable transfer to the coach\, family and friends will join us for our Circle of Honor.  Honor flag bikes needed.  Military honors at 12:30 PM.\n\n\nFlags & Water:\nFlags will not be provided\nIf you have large bike flags\, please bring them.\nWater WILL NOT be provided\, please bring your own.\n\nSTAGING #2 DETAILS: 07-03-18 \nStaging Time: 11:45 a.m. \nNational Memorial Cemetery of Arizona\n23029 Cave Creek Road\nPhoenix\, Arizona 85024\n\n\nRide Captain: \nDavid “Murf” Murphy\n480-406-4049\nazpgrmurf@gmai.com\n\n\nSpecial Instructions: \nThose not in procession\, please meet flag support at Visitor’s Center at 11:45 AM. Proceed to designated shelter at 12:10 PM to have flag line in place for arrival of our hero.\n\n\nFlags & Water:\nFlags will be provided\nLarge Bike Flags will NOT be needed.\nWater will be provided.\n\n\n\nSubmitted By: David Murphy \nPosition: Arizona Assistant State Captain \n\nNote: You do not have to own/ride a motorcycle or be a veteran to join\, and membership is Free. The only requirement is RESPECT! To subscribe to receive mission notices\, log into the National Site and click on the Members tab at the top. Select the Subscribe to PGR Missions option.\n Print This Page
URL:https://www.patriotguard.org/mission/robert-drapeau/
CATEGORIES:Honor Mission
END:VEVENT
END:VCALENDAR