BEGIN:VCALENDAR
VERSION:2.0
PRODID:-//Patriot Guard Riders - ECPv5.3.2.1//NONSGML v1.0//EN
CALSCALE:GREGORIAN
METHOD:PUBLISH
X-WR-CALNAME:Patriot Guard Riders
X-ORIGINAL-URL:https://www.patriotguard.org
X-WR-CALDESC:Events for Patriot Guard Riders
BEGIN:VTIMEZONE
TZID:America/New_York
BEGIN:DAYLIGHT
TZOFFSETFROM:-0500
TZOFFSETTO:-0400
TZNAME:EDT
DTSTART:20190310T070000
END:DAYLIGHT
BEGIN:STANDARD
TZOFFSETFROM:-0400
TZOFFSETTO:-0500
TZNAME:EST
DTSTART:20191103T060000
END:STANDARD
END:VTIMEZONE
BEGIN:VEVENT
DTSTART;VALUE=DATE:20190627
DTEND;VALUE=DATE:20190628
DTSTAMP:20210405T071258
CREATED:20190626T102557Z
LAST-MODIFIED:20190626T102557Z
UID:165751-1561593600-1561679999@www.patriotguard.org
SUMMARY:Robert David Smiley
DESCRIPTION:Honor Mission\nRobert David Smiley\, Retired\nUSN\, USAF – Vietnam\nColumbia\, South Carolina – 06-27-19\n\n\n\n\nABOUT THE MISSION: \nMr. Robert David Smiley\, served honorably for over 20 years in both the USAF and USN.  His only surviving family\, a sister\, is disabled\, lives in another state and cannot attend his service. His friend who is organizing the service has asked the PGR to attend and stand for him as he stood for us.\n\n\nPRIMARY STAGING DETAILS: 06-27-19 \nStaging Time: 9:15 a.m.\n \nFort Jackson National Cemetery\n4170 Percival Road\nColumbia\, South Carolina 29229\nMap\n\n\nRide Captain: \nTom “Survivor” Yeoman\, (803) 463-5880\n\n\nSpecial Instructions: \nBriefing: 9:30 am.  After the briefing\, move to the committal shelter to establish a flag line and maintain throughout the 10:00 am service.\n\n\nFlags & Water:\nFlags will be provided\nLarge Bike Flags will NOT be needed.\nWater will be provided.\n\n\nSubmitted By: L.Z. Harrison\, Jr. \nPosition: South Carolina Assistant State Captain \n\nNote: You do not have to own/ride a motorcycle or be a veteran to join\, and membership is Free. The only requirement is RESPECT! To subscribe to receive mission notices\, log into the National Site and click on the Members tab at the top. Select the Subscribe to PGR Missions option.\n Print This Page
URL:https://www.patriotguard.org/mission/robert-david-smiley/
CATEGORIES:Honor Mission
END:VEVENT
END:VCALENDAR