BEGIN:VCALENDAR
VERSION:2.0
PRODID:-//Patriot Guard Riders - ECPv5.3.2.1//NONSGML v1.0//EN
CALSCALE:GREGORIAN
METHOD:PUBLISH
X-WR-CALNAME:Patriot Guard Riders
X-ORIGINAL-URL:https://www.patriotguard.org
X-WR-CALDESC:Events for Patriot Guard Riders
BEGIN:VTIMEZONE
TZID:America/New_York
BEGIN:DAYLIGHT
TZOFFSETFROM:-0500
TZOFFSETTO:-0400
TZNAME:EDT
DTSTART:20170312T070000
END:DAYLIGHT
BEGIN:STANDARD
TZOFFSETFROM:-0400
TZOFFSETTO:-0500
TZNAME:EST
DTSTART:20171105T060000
END:STANDARD
END:VTIMEZONE
BEGIN:VEVENT
DTSTART;TZID=America/New_York:20170705T103000
DTEND;TZID=America/New_York:20170705T123000
DTSTAMP:20210406T032515
CREATED:20170705T143000Z
LAST-MODIFIED:20191201T030755Z
UID:312332-1499250600-1499257800@www.patriotguard.org
SUMMARY:Robert David Rehburg\, Veteran\, USA - WWII\, Korea
DESCRIPTION:Robert David Rehburg\, Veteran \nUSA – WWII\, Korea \nMULTI-CITY\, Colorado – 05 Jul 2017\n\n[HR][/HR]\nABOUT THE MISSION: \nThe Patriot Guard Riders have been invited to attend the Funeral and Interment services for Robert David Rehburg on Wednesday\, July 5\, 2017. The funeral will be at Green Mountain Christian Church\, 10700 W. Exposition Dr.\, Lakewood at 11:30 AM. The Interment will be at Fort Logan National Cemetery\, 3698 South Sheridan Blvd.\, Denver at 2:15 PM at Committal Shelter C. \nMr. Rehburg was born on October 19\, 1926 and died on June 17\, 2017. He served in the US Army during both WWII and the Korean War. \nPRIMARY STAGING DETAILS: 05 Jul 2017 \n \nPrimary Staging Time: 10:30 A.M.\n\nGreen Mountain Christian Church\n10700 W. Exposition Dr.\n\nLakewood\, Colorado –\n\n\n\n \nRide Captain:\n\nWill an available Ride Captain please contact:\nLisa Menard\nstatecaptain@coloradopgr.org\n720-838-3692\n\n \nSpecial Instructions:\n\n10:30 AM – Stage at Green Mountain Christian Church\n10:45 AM – Mission Briefing\n11:00 AM – Set the flag line \nThe PGR will not be participating in the procession from the church to the cemetery.\n\n \nFlags & Water:\n\nFlags Will Be Provided\n\nLarge Bike Flags will NOT be needed.\n\nWater WILL NOT be provided\, please bring your own.\n\n[HR][/HR]\nSTAGING #2 DETAILS: 05 Jul\, 2017 \n \nStaging #2 Time: 01:30 P.M.\n\nFort Logan National Cemetery\n3698 South Sheridan Blvd\n\nDenver\, Colorado –\n\n\n\n \nRide Captain:\n\nWill an available Ride Captain please contact:\nLisa Menard\nstatecaptain@coloradopgr.org\n720-838-3692\n\n \nSpecial Instructions:\n\n01:30 PM – Stage at Fort Logan National Cemetery Visitors Center\n01:45 PM – Mission Briefing\n02:00 PM – Depart for Committal Shelter C to set the flag line\n\n \nFlags & Water:\n\nFlags Will Be Provided\n\nLarge Bike Flags will NOT be needed\n\nWater WILL NOT be provided\, please bring your own.\n\n\nSubmitted By: Lisa Menard\nPosition: State Captain \n[HR][/HR]\nNote:\nYou do not have to own/ride a motorcycle or be a Veteran to join and membership is Free. The only requirement is RESPECT! To join\, simply go to www.PatriotGuard.org and click on Register. Membership is Free. \nTo subscribe to receive mission notices\, log into the National Site and click on the Mission Tab at the top. Select Upcoming Missions by State. Scroll to the state(s) you would like to receive notices for and click on the green check mark. Detailed instructions are also located in the FAQs on the site by clicking on the Quick Links Tab and selecting FAQs.
URL:https://www.patriotguard.org/mission/robert-david-rehburg-veteran-usa-wwii-korea/
END:VEVENT
END:VCALENDAR