BEGIN:VCALENDAR
VERSION:2.0
PRODID:-//Patriot Guard Riders - ECPv5.3.2.1//NONSGML v1.0//EN
CALSCALE:GREGORIAN
METHOD:PUBLISH
X-WR-CALNAME:Patriot Guard Riders
X-ORIGINAL-URL:https://www.patriotguard.org
X-WR-CALDESC:Events for Patriot Guard Riders
BEGIN:VTIMEZONE
TZID:America/New_York
BEGIN:DAYLIGHT
TZOFFSETFROM:-0500
TZOFFSETTO:-0400
TZNAME:EDT
DTSTART:20080309T070000
END:DAYLIGHT
BEGIN:STANDARD
TZOFFSETFROM:-0400
TZOFFSETTO:-0500
TZNAME:EST
DTSTART:20081102T060000
END:STANDARD
END:VTIMEZONE
BEGIN:VEVENT
DTSTART;TZID=America/New_York:20081124T090000
DTEND;TZID=America/New_York:20081124T110000
DTSTAMP:20210405T190318
CREATED:20081124T140000Z
LAST-MODIFIED:20191201T113017Z
UID:379842-1227517200-1227524400@www.patriotguard.org
SUMMARY:Robert Dardeen\, USN/USAF\, WWII/Korea Veteran
DESCRIPTION:Barbara Dardeen has requested the PGR for a flag line in honor of her father Robert Dardeen.\nRobert was a veteran of two wars.   He served with the Navy in WWII and Air Force in Korea.\n\n>>>Mr Dardeens Obit Bring flags
URL:https://www.patriotguard.org/mission/robert-dardeen-usn-usaf-wwii-korea-veteran/
CATEGORIES:Archive
END:VEVENT
END:VCALENDAR