BEGIN:VCALENDAR
VERSION:2.0
PRODID:-//Patriot Guard Riders - ECPv5.6.0//NONSGML v1.0//EN
CALSCALE:GREGORIAN
METHOD:PUBLISH
X-WR-CALNAME:Patriot Guard Riders
X-ORIGINAL-URL:https://www.patriotguard.org
X-WR-CALDESC:Events for Patriot Guard Riders
BEGIN:VTIMEZONE
TZID:America/New_York
BEGIN:DAYLIGHT
TZOFFSETFROM:-0500
TZOFFSETTO:-0400
TZNAME:EDT
DTSTART:20160313T070000
END:DAYLIGHT
BEGIN:STANDARD
TZOFFSETFROM:-0400
TZOFFSETTO:-0500
TZNAME:EST
DTSTART:20161106T060000
END:STANDARD
END:VTIMEZONE
BEGIN:VEVENT
DTSTART;TZID=America/New_York:20160820T090000
DTEND;TZID=America/New_York:20160820T110000
DTSTAMP:20210512T005746
CREATED:20160820T130000Z
LAST-MODIFIED:20191201T143442Z
UID:409781-1471683600-1471690800@www.patriotguard.org
SUMMARY:Robert D. Denny
DESCRIPTION:Robert D. Denny\nSCARNG Veteran\nWestminster\, SC\n20 Aug 2016\n\n\n\nThe family of Robert Duran Denny has requested the Patriot Guard Riders to stand for him as he once stood for us and as always we are honored to accept the invitation. \nMr. Denny was a mechanic by trade and an 18 year veteran of the SC National Guard.  During his service\, he attained the rank of Sergeant First Class/E-7 and acted as the Nuclear Biological and Chemical Non Commissioned Officer for his unit.  Robert was an avid fisherman\, the father of 6 and grandfather of 10. \nMission Details:  Saturday\, 20 August 2016 \nStaging:\nSandifer Funeral Home\n512 East Main St.\nWestminster\, SC  29693\n Map:  https://goo.gl/maps/qvm1YjhnuHt \nAssemble: 1715/5:15 PM \nBrief: 1730/5:30 PM \nFlag line: 1745/5:45 PM \nExecution:  We will form the flag line immediately following the briefing for the arrival of the family and maintain it for the duration of the visitation.   \nI am honored to act as the RCIC of this mission. \nRon Meece\nASC\n864.304.5058\n  [FONT=&amp]meece@backroads.net[/FONT]
URL:https://www.patriotguard.org/mission/robert-d-denny/
CATEGORIES:Archive
END:VEVENT
END:VCALENDAR