BEGIN:VCALENDAR
VERSION:2.0
PRODID:-//Patriot Guard Riders - ECPv5.3.2.1//NONSGML v1.0//EN
CALSCALE:GREGORIAN
METHOD:PUBLISH
X-WR-CALNAME:Patriot Guard Riders
X-ORIGINAL-URL:https://www.patriotguard.org
X-WR-CALDESC:Events for Patriot Guard Riders
BEGIN:VTIMEZONE
TZID:America/New_York
BEGIN:DAYLIGHT
TZOFFSETFROM:-0500
TZOFFSETTO:-0400
TZNAME:EDT
DTSTART:20190310T070000
END:DAYLIGHT
BEGIN:STANDARD
TZOFFSETFROM:-0400
TZOFFSETTO:-0500
TZNAME:EST
DTSTART:20191103T060000
END:STANDARD
END:VTIMEZONE
BEGIN:VEVENT
DTSTART;VALUE=DATE:20190710
DTEND;VALUE=DATE:20190711
DTSTAMP:20210403T205152
CREATED:20190709T030351Z
LAST-MODIFIED:20190709T030647Z
UID:167038-1562716800-1562803199@www.patriotguard.org
SUMMARY:Robert C. Watts
DESCRIPTION:Honor Mission\nRobert C. Watts\, Veteran\nUSA – Korea\nBaton Rouge\, Louisiana – 07-10-19\n\n\n\nABOUT THE MISSION: \nThe family of Mr. Robert C. Watts has requested the Patriot Guard stand for their veteran and loved one. We are honored to do so.\n\n\nPRIMARY STAGING DETAILS: 07-10-19 \nStaging Time: 08:30 AM\n \nResthaven Funeral Home\n11817 Jefferson Hwy\nBaton Rouge\, Louisiana 70816\n\n\nRide Captain: \nJames Morin\n225-715-4970\nknomad15002003@yahoo.com\n\n\nSpecial Instructions: \n8:30 a.m.: Staging and placing of flags\n9:00 a.m.-11:00 a.m.: Visitation\n11:00 a.m.: Service\nBurial will follow behind the funeral home at Resthaven Gardens\n\n\nFlags & Water:\nFlags will be provided\nIf you have large bike flags\, please bring them.\nWater WILL NOT be provided\, please bring your own.\n\n\n\nSubmitted By: Doug Nobles \nPosition: Louisiana State Captain \n\nNote: You do not have to own/ride a motorcycle or be a veteran to join\, and membership is Free. The only requirement is RESPECT! To subscribe to receive mission notices\, log into the National Site and click on the Members tab at the top. Select the Subscribe to PGR Missions option.\n Print This Page
URL:https://www.patriotguard.org/mission/robert-c-watts/
CATEGORIES:Honor Mission
END:VEVENT
END:VCALENDAR