BEGIN:VCALENDAR
VERSION:2.0
PRODID:-//Patriot Guard Riders - ECPv5.3.2.1//NONSGML v1.0//EN
CALSCALE:GREGORIAN
METHOD:PUBLISH
X-WR-CALNAME:Patriot Guard Riders
X-ORIGINAL-URL:https://www.patriotguard.org
X-WR-CALDESC:Events for Patriot Guard Riders
BEGIN:VTIMEZONE
TZID:America/New_York
BEGIN:DAYLIGHT
TZOFFSETFROM:-0500
TZOFFSETTO:-0400
TZNAME:EDT
DTSTART:20190310T070000
END:DAYLIGHT
BEGIN:STANDARD
TZOFFSETFROM:-0400
TZOFFSETTO:-0500
TZNAME:EST
DTSTART:20191103T060000
END:STANDARD
END:VTIMEZONE
BEGIN:VEVENT
DTSTART;VALUE=DATE:20190607
DTEND;VALUE=DATE:20190608
DTSTAMP:20210405T023811
CREATED:20190604T144401Z
LAST-MODIFIED:20190604T144401Z
UID:163613-1559865600-1559951999@www.patriotguard.org
SUMMARY:Robert Brooks Sands\, III
DESCRIPTION:Honor Mission\nRobert Brooks Sands\, III\nUSA\nDallas\, Texas – 06-07-19\n\n\n \n\nABOUT THE MISSION: \nRobert Brooks Sands\, III\, of Fort Worth\, Texas\, born on March 3\, 1945 in Colorado Springs\, Colorado\, to the late Ella Inez and Robert Brooks Sands II\, passed away at age 74 on May 24\, 2019. “Sands” honorably served in the United States Army during the Vietnam War\, and graduated from Texas Wesleyan University with a degree in Business Management. Mr. Sands worked for Radio Shack Corporation\, and retired after 31 years.  Obituary\n\n\nPRIMARY STAGING DETAILS: 06-07-19 \nStaging Time: 12:45 PM\n \nDFW National Cemetery\n2000 Mountain Creek Pkwy\nDallas\, Texas 75211\n\n\nRide Captain: \nPerry Sampley\npsampley@msn.com\n(214) 334-7417\n\n\nSpecial Instructions: \nBriefing Time: 1:00 PM\nIn Position Time: 1:15 PM\nStarting Time: 1:30 PM\nRiders will stage at the Visitor’s Center of DFW National Cemetery. After the mission briefing\, Honor Bikes will be selected\, and they will move to Staging Lane 3. Remaining riders will proceed to Shelter C\, set the flags and await the arrival of SGT Sands and Family. After the service\, flags will be returned to the storage locker and riders will be debriefed and dismissed.\n\nFlags & Water:\nFlags will be provided\nIf you have large bike flags\, please bring them.\nWater WILL NOT be provided\, please bring your own.\n\n\n\nSubmitted By: Dan Mathys \nPosition: Texas Ride Captain \n\nNote: You do not have to own/ride a motorcycle or be a veteran to join\, and membership is Free. The only requirement is RESPECT! To subscribe to receive mission notices\, log into the National Site and click on the Members tab at the top. Select the Subscribe to PGR Missions option.\n Print This Page
URL:https://www.patriotguard.org/mission/robert-brooks-sands-iii/
CATEGORIES:Honor Mission
END:VEVENT
END:VCALENDAR