BEGIN:VCALENDAR
VERSION:2.0
PRODID:-//Patriot Guard Riders - ECPv5.6.0//NONSGML v1.0//EN
CALSCALE:GREGORIAN
METHOD:PUBLISH
X-WR-CALNAME:Patriot Guard Riders
X-ORIGINAL-URL:https://www.patriotguard.org
X-WR-CALDESC:Events for Patriot Guard Riders
BEGIN:VTIMEZONE
TZID:America/New_York
BEGIN:DAYLIGHT
TZOFFSETFROM:-0500
TZOFFSETTO:-0400
TZNAME:EDT
DTSTART:20160313T070000
END:DAYLIGHT
BEGIN:STANDARD
TZOFFSETFROM:-0400
TZOFFSETTO:-0500
TZNAME:EST
DTSTART:20161106T060000
END:STANDARD
END:VTIMEZONE
BEGIN:VEVENT
DTSTART;TZID=America/New_York:20160817T090000
DTEND;TZID=America/New_York:20160817T110000
DTSTAMP:20210511T203608
CREATED:20160817T130000Z
LAST-MODIFIED:20191201T143527Z
UID:409853-1471424400-1471431600@www.patriotguard.org
SUMMARY:Robert B Treat\, USA
DESCRIPTION:The  family of U.S. Army\, Cobra Pilot\, Vietnam Veteran LTC “RB” Treat has  asked the PGR to stand a flag line at his services to be held on  Wednesday\, 17 Aug 16 at Skiatook\, OK. \nServices will be held at  Sien-Shelton Funeral Chapel\, 1000 S Lombard Ln\, Skiatook\, OK at 1000. \nInterment will follow at Veteran’s Memorial at Osage Gardens Cemetery. \nDATE:  Wednesday\, 17 Aug 16 \nSTAGING:  0830\nSien-Shelton Funeral Chapel\n1000 S Lombard Ln\nSkiatook\, OK \nMANDATORY BRIEFING:  0900\nRiders must attend briefing if riding in escort. \nFLAG LINE:  0930 \nWEATHER:  Forecast high 86 and partly cloudy—HYDRATE-HYDRATE-HYDRATE!!!!!!!!!! \nRCIC:\nMike Pennington\nwmp8843@cox.net\n918-557-1030
URL:https://www.patriotguard.org/mission/robert-b-treat-usa/
CATEGORIES:Archive
END:VEVENT
END:VCALENDAR