BEGIN:VCALENDAR
VERSION:2.0
PRODID:-//Patriot Guard Riders - ECPv5.3.2.1//NONSGML v1.0//EN
CALSCALE:GREGORIAN
METHOD:PUBLISH
X-WR-CALNAME:Patriot Guard Riders
X-ORIGINAL-URL:https://www.patriotguard.org
X-WR-CALDESC:Events for Patriot Guard Riders
BEGIN:VTIMEZONE
TZID:America/New_York
BEGIN:DAYLIGHT
TZOFFSETFROM:-0500
TZOFFSETTO:-0400
TZNAME:EDT
DTSTART:20210314T070000
END:DAYLIGHT
BEGIN:STANDARD
TZOFFSETFROM:-0400
TZOFFSETTO:-0500
TZNAME:EST
DTSTART:20211107T060000
END:STANDARD
END:VTIMEZONE
BEGIN:VEVENT
DTSTART;VALUE=DATE:20210402
DTEND;VALUE=DATE:20210403
DTSTAMP:20210404T082242
CREATED:20210401T025935Z
LAST-MODIFIED:20210401T030903Z
UID:573460-1617321600-1617407999@www.patriotguard.org
SUMMARY:Robert B. Blackshear
DESCRIPTION:Honor Mission\nRobert B. Blackshear\, Retired\nFire –\nMULTI-CITY\, Texas – 04-02-21\n\n\n\nABOUT THE MISSION: \nNo obituary details available.\n\n\nPRIMARY STAGING DETAILS: 04-02-21 \nStaging Time: 11:00 AM\n \nCommunity Missionary Baptist Church\n820 E. Wintergreen Road\nCedar Hill\, Texas 75104\n\n\nRide Captain: \nPerry Sampley\nPSampley@msn.com\n(214) 334-7417\n\nBill Kushnir\, bpkush@gte.net\, (214) 995-1536\n\n\nSpecial Instructions: \nStaging Time: 1100\nBriefing Time: 1115\nIn Position/KSU Time: 1130\nStarting Time: 1200\nAfter the Mission Brief\, the Riders will establish the Flag Line.\nWhen directed\, the Riders will return the flags to the support vehicle and receive the Safety Briefing and prepare to accompany the procession to the cemetery. Those not participating in the procession will proceed to the Cemetery. Procession: Escort Provided\n\n\nFlags & Water:\nFlags will be provided\nIf you have large bike flags\, please bring them.\nWater will be provided.\n\nSTAGING #2 DETAILS: 04-02-21 \nStaging Time: 12:30 PM\n \nLaurel Land Funeral Home and Memorial Park\n6300 South R L Thornton Freeway\nDallas\, Texas 75232\n\n\nRide Captain: \nPerry Sampley\nPSampley@msn.com\n(214) 334-7417\n\nBill Kushnir\nbpkush@gte.net\n(214) 995-1536\n\n\nSpecial Instructions: \nStaging Time: 1230\nBriefing Time: 1235\nIn Position/KSU Time: 1245\nStarting Time: 1250 Time Estimated\nAfter arriving with the procession\, Riders will dismount and establish the Flag Line.\nAt the conclusion of the service\, Riders will return the flags to the support vehicle\, be debriefed and dismissed.\n\n\nFlags & Water:\nFlags will be provided\nIf you have large bike flags\, please bring them.\nWater will be provided.\n\n\nSubmitted By: Dan Mathys \nPosition: Texas Ride Captain \n\nNote: You do not have to own/ride a motorcycle or be a veteran to join\, and membership is Free. The only requirement is RESPECT! To subscribe to receive mission notices\, log into the National Site and click on the Members tab at the top. Select the Subscribe to PGR Missions option.\n Print This Page
URL:https://www.patriotguard.org/mission/robert-b-blackshear/
CATEGORIES:Honor Mission
END:VEVENT
END:VCALENDAR