BEGIN:VCALENDAR
VERSION:2.0
PRODID:-//Patriot Guard Riders - ECPv5.6.0//NONSGML v1.0//EN
CALSCALE:GREGORIAN
METHOD:PUBLISH
X-WR-CALNAME:Patriot Guard Riders
X-ORIGINAL-URL:https://www.patriotguard.org
X-WR-CALDESC:Events for Patriot Guard Riders
BEGIN:VTIMEZONE
TZID:America/New_York
BEGIN:DAYLIGHT
TZOFFSETFROM:-0500
TZOFFSETTO:-0400
TZNAME:EDT
DTSTART:20160313T070000
END:DAYLIGHT
BEGIN:STANDARD
TZOFFSETFROM:-0400
TZOFFSETTO:-0500
TZNAME:EST
DTSTART:20161106T060000
END:STANDARD
END:VTIMEZONE
BEGIN:VEVENT
DTSTART;TZID=America/New_York:20160628T090000
DTEND;TZID=America/New_York:20160628T110000
DTSTAMP:20210512T155433
CREATED:20160628T130000Z
LAST-MODIFIED:20191201T144737Z
UID:410977-1467104400-1467111600@www.patriotguard.org
SUMMARY:Robert Augusta Lothringer\, 70\, USN
DESCRIPTION:HONOR MISSION\nLt Robert Augusta “Bob” Lothringer\, 70\, US Navy\, Vietnam Veteran\, OF Georgetown\, TX\n\n \nThe family of Lieutenant Robert Augusta “Bob” Lothringer has requested the presence of the Patriot Guard Riders at the Inurnment of their Loved One.\n \nBob attended & graduated from Texas Tech University and was a life-long\, diehard Red Raider fan. Bob selflessly served the country he loved as a Lieutenant in the United States Navy. Bob served with a group called Battle Mind Recovery\, who assisted combat veterans’ transition from war to home. Bob was an avid automobile enthusiast and\, in his younger days\, an award winning amateur racer. His full obituary may be found here: http://www.ramseyfuneral.com/sitemaker/sites/Ramsey2/memsol.cgi?user_id=1816282\n \nDate: Tue\, 28 Jun 16\n \nStaging Time: 1230\n \nStaging Location: The side of the road directly across from the Columbarium at the Central Texas State Veterans Cemetery located off TX 195 just south of Killeen\, TX (http://tinyurl.com/CenTexVetsCeme)\n \nBriefing: 1245\n \nFlag line Establishment: 1255 +/- At the direction of the Ride Captain.\n \nWX: A 40 percent chance of showers and thunderstorms\, mainly after 2pm. Partly sunny\, with a high near 92. West wind 5 to 10 mph becoming north northeast in the afternoon.\n \nNotes:\n \n1. Be at staging ON TIME.\n \n2. Hydrate well prior\, bring water for yourself and a buddy and dress with consideration of the weather conditions.\n \nRide Captain/Flag Wrangler: Mary “Marebear” Gregory; 254.458.2120; Mgregory2@hot.rr.com\n  \n\nPlease join us in honoring this US Navy Vietnam Veteran for his selfless service to our Great Nation.
URL:https://www.patriotguard.org/mission/robert-augusta-lothringer-70-usn/
CATEGORIES:Archive
END:VEVENT
END:VCALENDAR