BEGIN:VCALENDAR
VERSION:2.0
PRODID:-//Patriot Guard Riders - ECPv5.6.0//NONSGML v1.0//EN
CALSCALE:GREGORIAN
METHOD:PUBLISH
X-WR-CALNAME:Patriot Guard Riders
X-ORIGINAL-URL:https://www.patriotguard.org
X-WR-CALDESC:Events for Patriot Guard Riders
BEGIN:VTIMEZONE
TZID:America/New_York
BEGIN:DAYLIGHT
TZOFFSETFROM:-0500
TZOFFSETTO:-0400
TZNAME:EDT
DTSTART:20160313T070000
END:DAYLIGHT
BEGIN:STANDARD
TZOFFSETFROM:-0400
TZOFFSETTO:-0500
TZNAME:EST
DTSTART:20161106T060000
END:STANDARD
END:VTIMEZONE
BEGIN:VEVENT
DTSTART;TZID=America/New_York:20160729T090000
DTEND;TZID=America/New_York:20160729T110000
DTSTAMP:20210512T220653
CREATED:20160729T130000Z
LAST-MODIFIED:20191201T143951Z
UID:410262-1469782800-1469790000@www.patriotguard.org
SUMMARY:Robert Audette\, USMC
DESCRIPTION:The family of Robert Audette\, United States Marine Corps Veteran and Vietnam Veteran\, have requested the PGR stand for him at his inurnment services at Sacramento Valley National Cemetery on July 29\, 2016. The PGR are Honored to Stand for this American Hero.\n\nRobert enlisted in the Marines in Boston\, Massachusetts on July 29\, 1965\, and served for 4 years in the U.S. Marine Corps. He served in Vietnam as an Air Crew Chief & Aerial Gunner in UH-34D Choctaw Helicopter. He was awarded the Purple Heart for combat wounds he sustained in Vietnam.  \nMISSION DETAILS; \nSTAGING: 0800 29 JULY\, 2016 \nLOCATION: Chevron station 2615 Plaza Ct.\, Dixon\, Ca. 95620 \nMap link: https://goo.gl/maps/55GBy1AZvfn \nBRIEFING:0815 hrs. \nKSU:0830 hrs. – Destination SVNC \nWe will meet the family at SVNC and form a flag line at the committal shelter as normal\, for the services which begin at 0900 hrs. We will remain in place during the committal shelter services after which we will quietly depart.  \nRide Captain: Tom Jefferies\, 909-224-6272  \nARC/SC: TBA \nYou do not have to be a veteran or a motorcycle rider to attend this mission. Everyone is welcome. If you do not ride you are encouraged to attend in your car. Remember to bring your 3×5 American Flags. If this will be your first mission go to the staging area and you will be briefed there.
URL:https://www.patriotguard.org/mission/robert-audette-usmc/
CATEGORIES:Archive
END:VEVENT
END:VCALENDAR