BEGIN:VCALENDAR
VERSION:2.0
PRODID:-//Patriot Guard Riders - ECPv5.3.2.1//NONSGML v1.0//EN
CALSCALE:GREGORIAN
METHOD:PUBLISH
X-WR-CALNAME:Patriot Guard Riders
X-ORIGINAL-URL:https://www.patriotguard.org
X-WR-CALDESC:Events for Patriot Guard Riders
BEGIN:VTIMEZONE
TZID:America/New_York
BEGIN:DAYLIGHT
TZOFFSETFROM:-0500
TZOFFSETTO:-0400
TZNAME:EDT
DTSTART:20190310T070000
END:DAYLIGHT
BEGIN:STANDARD
TZOFFSETFROM:-0400
TZOFFSETTO:-0500
TZNAME:EST
DTSTART:20191103T060000
END:STANDARD
END:VTIMEZONE
BEGIN:VEVENT
DTSTART;VALUE=DATE:20190919
DTEND;VALUE=DATE:20190920
DTSTAMP:20210401T095329
CREATED:20190918T174456Z
LAST-MODIFIED:20190918T174456Z
UID:174885-1568851200-1568937599@www.patriotguard.org
SUMMARY:Robert Atwater
DESCRIPTION:Honor Mission\nRobert Atwater\, Veteran\nUSMC\, USNR – Korea\nSt Charles\, Missouri – 09-19-19\n\n\n\n\nABOUT THE MISSION: \nThe family of Robert Atwater has requested the Patriot Guard Riders to stand a flag line during his visitation\, for arrival of family and friends. We will escort our hero to S.t Charles Memorial Garden for military honors. Veteran Atwater first enlisted in the United States Naval Reserve from 1947-1951.  He then enlisted in the United States Marine Corps during the Korean War\, serving as a Military Policeman from 1951 – 1954.  After his enlistment\, Bob became a patrolman with the St Charles Police Dept.\, a fireman with the St Charles Fire Dept.\, and in his spare time drove an ambulance.  Bob was a dedicated public servant for the majority of his life.   Let us now stand for him as he stood for us on multiple occasions.\n\n\nPRIMARY STAGING DETAILS: 09-19-19 \nStaging Time: 10:45 am\n \nBaue Funeral Home\n3950 West Clay\nSt Charles\, Missouri 63301\n\n\nRide Captain: \nNeil “Nitehawk” Hill\nnitehawk.pgr@gmail.com\n314-808-2568\nFlag support… Harold “Chief Boo” Vanderboegh.\n\n\nSpecial Instructions: \nRide meeting to follow staging\, with a flag line until service time 12 noon.\nWe will escort our hero\, his family and friends on-site to St Charles Memorial Garden with a 12:45 pm ETA.  A sunny day is expected with a high of 90 degrees.  It will be important to stay hydrated before and during this mission.  Cages are always welcome!\n\nFlags & Water:\nFlags will be provided\nIf you have large bike flags\, please bring them.\nWater will be provided.\n\n\n\n\nSubmitted By: Neil Hill \nPosition: Missouri Ride Captain \n\nNote: You do not have to own/ride a motorcycle or be a veteran to join\, and membership is Free. The only requirement is RESPECT! To subscribe to receive mission notices\, log into the National Site and click on the Members tab at the top. Select the Subscribe to PGR Missions option.\n Print This Page
URL:https://www.patriotguard.org/mission/robert-atwater/
CATEGORIES:Honor Mission
END:VEVENT
END:VCALENDAR