BEGIN:VCALENDAR
VERSION:2.0
PRODID:-//Patriot Guard Riders - ECPv5.3.2.1//NONSGML v1.0//EN
CALSCALE:GREGORIAN
METHOD:PUBLISH
X-WR-CALNAME:Patriot Guard Riders
X-ORIGINAL-URL:https://www.patriotguard.org
X-WR-CALDESC:Events for Patriot Guard Riders
BEGIN:VTIMEZONE
TZID:America/New_York
BEGIN:DAYLIGHT
TZOFFSETFROM:-0500
TZOFFSETTO:-0400
TZNAME:EDT
DTSTART:20190310T070000
END:DAYLIGHT
BEGIN:STANDARD
TZOFFSETFROM:-0400
TZOFFSETTO:-0500
TZNAME:EST
DTSTART:20191103T060000
END:STANDARD
END:VTIMEZONE
BEGIN:VEVENT
DTSTART;VALUE=DATE:20190625
DTEND;VALUE=DATE:20190626
DTSTAMP:20210405T012304
CREATED:20190625T034404Z
LAST-MODIFIED:20190625T034404Z
UID:165499-1561420800-1561507199@www.patriotguard.org
SUMMARY:Robert A. Del Raso
DESCRIPTION:Honor Mission\nRobert A. Del Raso\, Veteran\nUSN\nWalker\, Michigan – 06-25-19\n\n\n \n\nABOUT THE MISSION: \nThe Patriot Guard Riders have been invited to Stand in Honor of Mr. Del Raso’s Service to our Country.  Senior Chief Robert A. Del Raso\, 79\, passed away on Thursday June 20.  He served as an Electronics Technician in the US Navy for almost 22 years. He served aboard the USS Intrepid during the Vietnam War and aboard the USS Barton during the Cuban Missile Crisis. After retiring as a Senior Chief\, he also worked for the City of Grand Rapids in the Traffic Safety Department until his retirement in May 2002.   Obituary\n\n\nPRIMARY STAGING DETAILS: 06-25-19 \nStaging Time: 9:00 am  \nArsuowicz Remembrance Chapel\n3525 Remembrance Rd.\nWalker\, Michigan 49534\nMap\n\n\nRide Captain: \nPhil Pakiela\n(616) 916-3064\n\n\nSpecial Instructions: \nBriefing: 9:15 AM\nFlag Line: 9:30 AM\nService: 11:00 AM\nPlease bring your 3′ x 5′ American Flag. I will have some extras. No escort is planned for this Mission.\n\nFlags & Water:\nFlags will not be provided\nLarge Bike Flags will NOT be needed.\nWater WILL NOT be provided\, please bring your own.\n\n\n\nSubmitted By: Terrence Laurencelle \nPosition: Michigan Ride Captain \n\nNote: You do not have to own/ride a motorcycle or be a veteran to join\, and membership is Free. The only requirement is RESPECT! To subscribe to receive mission notices\, log into the National Site and click on the Members tab at the top. Select the Subscribe to PGR Missions option.\n Print This Page
URL:https://www.patriotguard.org/mission/robert-a-del-raso/
CATEGORIES:Honor Mission
END:VEVENT
END:VCALENDAR