BEGIN:VCALENDAR
VERSION:2.0
PRODID:-//Patriot Guard Riders - ECPv5.3.2.1//NONSGML v1.0//EN
CALSCALE:GREGORIAN
METHOD:PUBLISH
X-WR-CALNAME:Patriot Guard Riders
X-ORIGINAL-URL:https://www.patriotguard.org
X-WR-CALDESC:Events for Patriot Guard Riders
BEGIN:VTIMEZONE
TZID:America/New_York
BEGIN:DAYLIGHT
TZOFFSETFROM:-0500
TZOFFSETTO:-0400
TZNAME:EDT
DTSTART:20190310T070000
END:DAYLIGHT
BEGIN:STANDARD
TZOFFSETFROM:-0400
TZOFFSETTO:-0500
TZNAME:EST
DTSTART:20191103T060000
END:STANDARD
END:VTIMEZONE
BEGIN:VEVENT
DTSTART;VALUE=DATE:20190607
DTEND;VALUE=DATE:20190608
DTSTAMP:20210405T005035
CREATED:20190603T141040Z
LAST-MODIFIED:20190603T141040Z
UID:163475-1559865600-1559951999@www.patriotguard.org
SUMMARY:Robert A. Bosworth
DESCRIPTION:Honor Mission\nRobert A. Bosworth\, Veteran\nUSAF – Korea\nFlorissant\, Missouri – 06-07-19\n\n\n\n\nABOUT THE MISSION: \nThe Patriot Guard Riders have been requested to honor a revered member of the United States Military.  Please join in standing a flag line of honor and respect for fallen veteran\, Robert A. Bosworth\, just as he once stood for every one of us and escort him to the hallowed grounds of Jefferson Barracks National Cemetery where he will receive full military honors.  Protecting his country and preserving its freedoms\, hero Bosworth served our great nation in the United States Air Force from 1952 to 1955.  He achieved the rank of Airman Second Class and earned the Korean Service medal\, the United Nations Service Medal and the National Defense Service Medal.\n\n\nPRIMARY STAGING DETAILS: 06-07-19 \nStaging Time: 9:00 am \nHutchens Mortuary and Cremation Center\n675 Graham Road\nFlorissant\, Missouri 63031\n\n\nRide Captain: \nRon “Pete” Peterson\nron.peterson@charter.net\n636.443.9643\n\n\nSpecial Instructions: \nFlag Line:  9:10 A.M.\nService:  9:30 A.M.\nEscort:  Jefferson Barracks National Cemetery.   Appointment time: 11:30 A.M .  Flag Support: Danny “Wolfman” Reinbold.  Weather is projected to be a high of 79* with a 90% chance of rain. Cages are welcome. HYDRATE HYDRATE HYDRATE\n\nFlags & Water:\nFlags will be provided\nIf you have large bike flags\, please bring them.\nWater will be provided.\n\n\n\n\nSubmitted By: Ronald Peterson \nPosition: Missouri Ride Captain \n\nNote: You do not have to own/ride a motorcycle or be a veteran to join\, and membership is Free. The only requirement is RESPECT! To subscribe to receive mission notices\, log into the National Site and click on the Members tab at the top. Select the Subscribe to PGR Missions option.\n Print This Page
URL:https://www.patriotguard.org/mission/robert-a-bosworth/
CATEGORIES:Honor Mission
END:VEVENT
END:VCALENDAR