BEGIN:VCALENDAR
VERSION:2.0
PRODID:-//Patriot Guard Riders - ECPv5.3.2.1//NONSGML v1.0//EN
CALSCALE:GREGORIAN
METHOD:PUBLISH
X-WR-CALNAME:Patriot Guard Riders
X-ORIGINAL-URL:https://www.patriotguard.org
X-WR-CALDESC:Events for Patriot Guard Riders
BEGIN:VTIMEZONE
TZID:America/New_York
BEGIN:DAYLIGHT
TZOFFSETFROM:-0500
TZOFFSETTO:-0400
TZNAME:EDT
DTSTART:20190310T070000
END:DAYLIGHT
BEGIN:STANDARD
TZOFFSETFROM:-0400
TZOFFSETTO:-0500
TZNAME:EST
DTSTART:20191103T060000
END:STANDARD
END:VTIMEZONE
BEGIN:VEVENT
DTSTART;VALUE=DATE:20190907
DTEND;VALUE=DATE:20190908
DTSTAMP:20210401T102828
CREATED:20190905T201453Z
LAST-MODIFIED:20190905T201453Z
UID:172737-1567814400-1567900799@www.patriotguard.org
SUMMARY:Ride for the Fallen-Justin Coleman
DESCRIPTION:HOTH Mission\nRide for the Fallen-Justin Coleman\, KIA\nUSA – WoT\nLoxley\, Alabama – 09-07-19\n\n\n\nABOUT THE MISSION: \nWe have been invited to participate in an approximate 115-mile memorial ride to honor Spc. Justin Coleman who was killed in action on 24 July 2009 in Afghanistan. There will be several stops along the way. This is a fundraising event. All proceeds will be donated to Racing 4 Vets. We will proceed to American Legion Post 99 in Foley\, Alabama. Activities will begin at 0800 beginning with free biscuits and gravy at sign-up. Other motorcycle groups will also be participating in this event. We will fly big flags for this event.\n\n\nPRIMARY STAGING DETAILS: 09-07-19 \nStaging Time: 7:00 am  \nRaceway\n12000 N Hickory St (I-10 @ Hwy 59)\nLoxley\, Alabama\n\n\nRide Captain: \nEd “Juju” Lessard\n(251) 978-6215\n\n\nSpecial Instructions: \nWill proceed to main staging area at Foley American Legion Post 99\n\n\nFlags & Water:\nFlags will not be provided\nIf you have large bike flags\, please bring them.\nWater will be provided.\n\nSTAGING #2 DETAILS: 09-07-19 \nStaging Time: 8:00 am  \nAmerican Legion Post\n992101 S. McKenzie St.\nFoley\, Alabama\n\n\nRide Captain: \nEd “Juju” Lessard\n(251) 978-6215\n\n\n\n\nFlags & Water:\nFlags will not be provided\nIf you have large bike flags\, please bring them.\nWater will be provided.\n\nSubmitted By: Richard Ullo \nPosition: Alabama Ride Captain \n\nNote: You do not have to own/ride a motorcycle or be a veteran to join\, and membership is Free. The only requirement is RESPECT! To subscribe to receive mission notices\, log into the National Site and click on the Members tab at the top. Select the Subscribe to PGR Missions option.\n Print This Page
URL:https://www.patriotguard.org/mission/ride-for-the-fallen-justin-coleman/
CATEGORIES:HOTH Mission
END:VEVENT
END:VCALENDAR