BEGIN:VCALENDAR
VERSION:2.0
PRODID:-//Patriot Guard Riders - ECPv5.3.2.1//NONSGML v1.0//EN
CALSCALE:GREGORIAN
METHOD:PUBLISH
X-WR-CALNAME:Patriot Guard Riders
X-ORIGINAL-URL:https://www.patriotguard.org
X-WR-CALDESC:Events for Patriot Guard Riders
BEGIN:VTIMEZONE
TZID:America/New_York
BEGIN:DAYLIGHT
TZOFFSETFROM:-0500
TZOFFSETTO:-0400
TZNAME:EDT
DTSTART:20190310T070000
END:DAYLIGHT
BEGIN:STANDARD
TZOFFSETFROM:-0400
TZOFFSETTO:-0500
TZNAME:EST
DTSTART:20191103T060000
END:STANDARD
END:VTIMEZONE
BEGIN:VEVENT
DTSTART;VALUE=DATE:20190727
DTEND;VALUE=DATE:20190728
DTSTAMP:20210403T191528
CREATED:20190727T051214Z
LAST-MODIFIED:20190727T053536Z
UID:168930-1564185600-1564271999@www.patriotguard.org
SUMMARY:Ricky "Rick" Cantolina
DESCRIPTION:Honor Mission\nRicky “Rick” Cantolina\, Veteran\nUSN\nAmbridge\, Pennsylvania – 07-26-19\n\n\n\nABOUT THE MISSION: \nThe Patriot Guard Riders have been invited by the family of Ricky “Rick” Cantolina\, U.S. Navy veteran\, to stand in silent honor then escort to the National Cemetery of the Alleghenies for the interment with military honors. Rick served during the Vietnam Era from June 1972- June 1978 and was aboard the USS Sierra\, receiving the National Defense Service Medal and the Good Conduct Medal.  Following time served\, Rick became a member of American Legion and American Legion Riders Post #512 in Unionville.\nRick served our country and his community with honor\, now it our to to stand in honor for him\n\n\nPRIMARY STAGING DETAILS: 07-26-19 \nStaging Time: 13:00  \nBohn Matich Funeral Home Inc\n1099 Maplewood Ave\nAmbridge\, Pennsylvania 15003\nMAP\n\n\nRide Captain: \nDave Filipek\n03blkstar@gmail.com\n(724) 931-5601\nBrad Leighty\nbrad.leighty@gmail.com\n(724) 822-2422\n\n\nSpecial Instructions: \nBriefing: 1:15 PM\nFlag Line: 1:30 PM\nVisitation 2-8:00 PM\n\nFlags & Water:\nFlags will not be provided\nLarge Bike Flags will NOT be needed.\nWater WILL NOT be provided\, please bring your own.\n\nSTAGING #2 DETAILS: 07-27-19 \nStaging Time: 08:30  \nBohn Matich Funeral Home Inc\n1099 Maplewood Ave\nAmbridge\, Pennsylvania 15003\nMAP\n\n\nRide Captain: \nMike Regalski\nmregalski@zoominternet.net\n(724) 272-2077\n\n\nSpecial Instructions: \nBriefing: 8:45 AM\nFlag Line: 9:00 AM\nKSU: 9:45 AM Escorting To:\nOur Lady of Peace Roman Catholic Church\n1000 3rd Ave\nConway\, PA 15027\nMAP\nFlag Line: Set upon arrival Mass of Christian Burial at 10:00 AM\n\nFlags & Water:\nFlags will not be provided\nLarge Bike Flags will NOT be needed.\nWater WILL NOT be provided\, please bring your own.\n\nSTAGING #3 DETAILS: 07-30-19 \nStaging Time: 11:15  \nBohn Matich Funeral Home Inc\n1099 Maplewood Ave\nAmbridge\, Pennsylvania 15003\nMAP\n\n\nRide Captain: \nLewis Winnecour\nlwinne1@comcast.net\n(412) 889-5629\nKimberly Curtis\nkimbasue60@gmail.com\n(724) 544-7713\n\n\nSpecial Instructions: \nBriefing: 11:30 AM\nKSU 11:45 AM\, escorting for interment:\n\n         National Cemetery Of The Alleghenies\n         1158 Morgan Rd\nCecil Township\, Pennsylvania 15017\nMAP\n\n\n\nFlags & Water:\nFlags will not be provided\nLarge Bike Flags will NOT be needed.\nWater WILL NOT be provided\, please bring your own.\n\nSTAGING #4 DETAILS: 07-30-19 \nStaging Time: 12:30  \nAlternate Staging/Briefing\nMemorial Walkway\, POW Circle\nNational Cemetery Of The Alleghenies\n1158 Morgan Rd\nCecil Township\, Pennsylvania 15017\nMAP\n\n\nRide Captain: \nJim Shaw\njeshaw@comcast.net\n(412)217-5967\n\n\nSpecial Instructions: \nFlag Line: 12:45 PM\nInterment scheduled for 1:00 PM\n\nThis is a three day mission\, members can attend all of a mission or any part of the mission. PGR sets no time for a member to stand a mission. We Thank you for whatever time you give us and the families of our heroes appreciate your time.\n\nRemember that the National Cemetery is a Federal Reservation and NO WEAPONS are permitted.\n\nDeer are on the move\, please be aware & alert of your surroundings also\, before heading out\, please watch the weather\, dress accordingly\,hydrate & bring your 3 X 5 handheld American flags.\n\n\nFlags & Water:\nFlags will not be provided\nLarge Bike Flags will NOT be needed.\nWater WILL NOT be provided\, please bring your own.\n\nSubmitted By: Marcy Sorensen \nPosition: Pennsylvania Ride Captain \n\nNote: You do not have to own/ride a motorcycle or be a veteran to join\, and membership is Free. The only requirement is RESPECT! To subscribe to receive mission notices\, log into the National Site and click on the Members tab at the top. Select the Subscribe to PGR Missions option.\n Print This Page
URL:https://www.patriotguard.org/mission/ricky-rick-cantolina/2019-07-27/
CATEGORIES:Honor Mission
END:VEVENT
END:VCALENDAR