BEGIN:VCALENDAR
VERSION:2.0
PRODID:-//Patriot Guard Riders - ECPv5.6.0//NONSGML v1.0//EN
CALSCALE:GREGORIAN
METHOD:PUBLISH
X-WR-CALNAME:Patriot Guard Riders
X-ORIGINAL-URL:https://www.patriotguard.org
X-WR-CALDESC:Events for Patriot Guard Riders
BEGIN:VTIMEZONE
TZID:America/New_York
BEGIN:DAYLIGHT
TZOFFSETFROM:-0500
TZOFFSETTO:-0400
TZNAME:EDT
DTSTART:20160313T070000
END:DAYLIGHT
BEGIN:STANDARD
TZOFFSETFROM:-0400
TZOFFSETTO:-0500
TZNAME:EST
DTSTART:20161106T060000
END:STANDARD
END:VTIMEZONE
BEGIN:VEVENT
DTSTART;TZID=America/New_York:20160712T090000
DTEND;TZID=America/New_York:20160712T110000
DTSTAMP:20210512T155549
CREATED:20160712T130000Z
LAST-MODIFIED:20191201T144408Z
UID:410656-1468314000-1468321200@www.patriotguard.org
SUMMARY:Ricky L. Henseler
DESCRIPTION:The family of Ricky Lee Henseler has invited the Patriot  Guard Riders to stand a flag line in honor of his life and service to our  country.\n\nRicky served in the US Marine Corps.  His  daughter said “My Dad\, and  best friend\, soul mate\, died on the forth of  July\, one of his favorite  holidays. He was sad because he was not  going to be able to go to  picnics and fireworks\, and my fighter Dad\,  well\, the fight got too big  for the strongest man I’ve ever known. He  loved Harley’s\, but never  was in a place where he could get one. I  would buy him little toy  Harley’s and other Harley stuff on his  birthdays and at Christmas  time\, he even had a little jar that said  “Harley Fund”  \nPlease come out and stand in silent tribute to Honor Ricky’s life and service to our country. \n12:45 pm – Stage Lane A (along fence on 34th Ave S) at Ft. Snelling National Cemetery\n1:15 pm – Brief\n1:45 pm- Interment \nEstimated release: 2:00 pm\nDismissal at RCIC’s discretion.\n\nThis  is a rain\, or shine mission. Please bring your 3 x 5 American Flag and  anything else you may need for the duration of this mission. \n“VA  regulations 38 CFR 1.218 prohibit the carrying of firearms (either  openly or concealed)\, explosives or other dangerous or deadly weapons  while on VA property\, except for official purposes\, such as a military  funeral honors. Possession of firearms on any property under the charge  and control of VA is prohibited. Offenders may be subject to a fine\,  removal from the premises or arrest.”\n\nRCIC – TBD\nFSNC Team \nRespectfully \nKarla Richardson\nActing Assistant State Captain\nPhone:  (218)-639-8482
URL:https://www.patriotguard.org/mission/ricky-l-henseler/
CATEGORIES:Archive
END:VEVENT
END:VCALENDAR