BEGIN:VCALENDAR
VERSION:2.0
PRODID:-//Patriot Guard Riders - ECPv5.3.2.1//NONSGML v1.0//EN
CALSCALE:GREGORIAN
METHOD:PUBLISH
X-WR-CALNAME:Patriot Guard Riders
X-ORIGINAL-URL:https://www.patriotguard.org
X-WR-CALDESC:Events for Patriot Guard Riders
BEGIN:VTIMEZONE
TZID:America/New_York
BEGIN:DAYLIGHT
TZOFFSETFROM:-0500
TZOFFSETTO:-0400
TZNAME:EDT
DTSTART:20190310T070000
END:DAYLIGHT
BEGIN:STANDARD
TZOFFSETFROM:-0400
TZOFFSETTO:-0500
TZNAME:EST
DTSTART:20191103T060000
END:STANDARD
END:VTIMEZONE
BEGIN:VEVENT
DTSTART;VALUE=DATE:20190925
DTEND;VALUE=DATE:20190927
DTSTAMP:20210401T093813
CREATED:20190921T023018Z
LAST-MODIFIED:20190921T023058Z
UID:175780-1569369600-1569542399@www.patriotguard.org
SUMMARY:Ricky D Padgett
DESCRIPTION:Honor Mission\nRicky D Padgett\, Veteran\nUSA – Vietnam\nAlexandria\, Virginia – 09-25-19\n\n\n\nABOUT THE MISSION: \nPGR has the great honor to be invited to stand a flag-line at the Funeral home during the viewing\, and a flag-line the next day during the Memorial service for Ricky D Padgett USA/LEO\, before escorting him to Mount Comfort Cemetery and standing another flag line there during the service.  Ricky Padgett was born on August 15th 1951 and passed away on September 14th 2019.  He was born in Washington\, DC and spent most his life there except for the time he served in the USA in Vietnam. He worked 38 years on Capitol Hill as a Capitol Hill Police officer\, he will be missed by his loving family.\n\n\nPRIMARY STAGING DETAILS: 09-25-19 \nStaging: 5:30 PM\n \nCunningham Turch Funeral Home\n811 Cameron Street\nAlexandria\, Virginia 22314\n\n\nRide Captain: \nBob Pope\n703-582-4414\n\n\nSpecial Instructions: \nBriefing: 5:45 PM\, PGR will set up a flag-line immediately following the briefing.\n\n\nFlags & Water:\nFlags will be provided\nLarge Bike Flags will NOT be needed.\nWater WILL NOT be provided\, please bring your own.\n\nSTAGING #2 DETAILS: 09-26-19 \nStaging: 10:15 AM\n \nCunningham Turch Funeral Home\n811 Cameron Street\nAlexandria\, Virginia 22314\n\n\nRide Captain: \nBob Pope\n703-582-4414\n\n\nSpecial Instructions: \nBriefing: 10:30 AM\, PGR will set up a flag-line immediately following the briefing.\n\n\nFlags & Water:\nFlags will be provided\nIf you have large bike flags\, please bring them.\nWater WILL NOT be provided\, please bring your own.\n\nSubmitted By: Patrick Segui \nPosition: Virginia Assistant State Captain \n\nNote: You do not have to own/ride a motorcycle or be a veteran to join\, and membership is Free. The only requirement is RESPECT! To subscribe to receive mission notices\, log into the National Site and click on the Members tab at the top. Select the Subscribe to PGR Missions option.\n Print This Page
URL:https://www.patriotguard.org/mission/ricky-d-padgett/
CATEGORIES:Honor Mission
END:VEVENT
END:VCALENDAR