BEGIN:VCALENDAR
VERSION:2.0
PRODID:-//Patriot Guard Riders - ECPv5.3.2.1//NONSGML v1.0//EN
CALSCALE:GREGORIAN
METHOD:PUBLISH
X-WR-CALNAME:Patriot Guard Riders
X-ORIGINAL-URL:https://www.patriotguard.org
X-WR-CALDESC:Events for Patriot Guard Riders
BEGIN:VTIMEZONE
TZID:America/New_York
BEGIN:DAYLIGHT
TZOFFSETFROM:-0500
TZOFFSETTO:-0400
TZNAME:EDT
DTSTART:20190310T070000
END:DAYLIGHT
BEGIN:STANDARD
TZOFFSETFROM:-0400
TZOFFSETTO:-0500
TZNAME:EST
DTSTART:20191103T060000
END:STANDARD
END:VTIMEZONE
BEGIN:VEVENT
DTSTART;VALUE=DATE:20190528
DTEND;VALUE=DATE:20190529
DTSTAMP:20210405T030006
CREATED:20190525T015646Z
LAST-MODIFIED:20190525T015646Z
UID:162354-1559001600-1559087999@www.patriotguard.org
SUMMARY:Rickie Ray Robison
DESCRIPTION:Honor Mission\nRickie Ray Robison\, Veteran\nUSA\nMacon\, Missouri – 05-28-19\n\n\n\n\nABOUT THE MISSION: \nThe family of Rickie “Rick” Ray Robison\, has asked the Patriot Guard Riders to honor their loved one and stand a silent and respectful flag line for Rick. He served in the U. S. Army and was an avid outdoorsman and enjoyed online gaming.  Rick loved his family and the KC Chiefs.\n\n\nPRIMARY STAGING DETAILS: 05-28-19 \nStaging Time:  9:30 AM  \nImmaculate Conception Church\n402 N. Rollins St.\nMacon\, Missouri 63552\n\n\nRide Captain: \nChris ‘Redneck’ Raymer\nbigpig866@gmail.com\n(660) 346-1280\n\n\nSpecial Instructions: \nStage:  09:30 AM for staking of flags and ride brief.\n           Service:  11:00 AM\n            Lunch break before the escort to MO Veteran’s Cemetery in Jacksonville.\nTemperatures are expected to be 75 to 78 degrees with a 40% chance of storms.\n\nFlags & Water:\nFlags will be provided\nIf you have large bike flags\, please bring them.\nWater WILL NOT be provided\, please bring your own.\n\n\n\nSubmitted By: Chris Raymer \nPosition: Missouri Ride Captain \n\nNote: You do not have to own/ride a motorcycle or be a veteran to join\, and membership is Free. The only requirement is RESPECT! To subscribe to receive mission notices\, log into the National Site and click on the Members tab at the top. Select the Subscribe to PGR Missions option.\n Print This Page
URL:https://www.patriotguard.org/mission/rickie-ray-robison/
CATEGORIES:Honor Mission
END:VEVENT
END:VCALENDAR