BEGIN:VCALENDAR
VERSION:2.0
PRODID:-//Patriot Guard Riders - ECPv5.3.2.1//NONSGML v1.0//EN
CALSCALE:GREGORIAN
METHOD:PUBLISH
X-WR-CALNAME:Patriot Guard Riders
X-ORIGINAL-URL:https://www.patriotguard.org
X-WR-CALDESC:Events for Patriot Guard Riders
BEGIN:VTIMEZONE
TZID:America/New_York
BEGIN:DAYLIGHT
TZOFFSETFROM:-0500
TZOFFSETTO:-0400
TZNAME:EDT
DTSTART:20190310T070000
END:DAYLIGHT
BEGIN:STANDARD
TZOFFSETFROM:-0400
TZOFFSETTO:-0500
TZNAME:EST
DTSTART:20191103T060000
END:STANDARD
END:VTIMEZONE
BEGIN:VEVENT
DTSTART;VALUE=DATE:20190709
DTEND;VALUE=DATE:20190710
DTSTAMP:20210403T205030
CREATED:20190709T012828Z
LAST-MODIFIED:20190709T012828Z
UID:167062-1562630400-1562716799@www.patriotguard.org
SUMMARY:Rickey Dean Barnett
DESCRIPTION:Honor Mission\nRickey Dean Barnett\, Veteran\nUSA – Vietnam\nNew Hope\, Alabama – 07-09-19\n\n\n \n\nABOUT THE MISSION: \nThe Family of Rickey Dean Barnett has asked the Patriot Guard Riders to honor their loved one by standing a silent flag line at his Visitation and Funeral Service with escort to his final resting place. We will be Honored to do so. Mr. Barnett stood for us…..now is the time to stand for him.  Mr. .Barnett (67) was in the US Army in Vietnam and served with distinction.\n\n\nPRIMARY STAGING DETAILS: 07-09-19 \nStaging Time: 4:00 pm\n \nNew Hope Funeral Home\n2500 Oak Grove Rd\nNew Hope\, Alabama 35760\n\n\nRide Captain: \nJeff Tennyson\njeff.tennyson6897@gmail.com\n256-221-1921\n\n\nSpecial Instructions: \nPlace flags\nSet flag line\nFamily arrives at 4:30 pm\n\nFlags & Water:\nFlags will be provided\nLarge Bike Flags will NOT be needed.\nWater WILL NOT be provided\, please bring your own.\n\nSTAGING #2 DETAILS: 07-10-19 \nStaging Time: 12:00 pm \nNew Hope Funeral Home\n2500 Oak Grove Rd.\nNew Hope\, Alabama 35760\n\n\nRide Captain: \nJeff Tennyson\njeff.tennyson6897@gmail.com\n256-221-1921\n\n\nSpecial Instructions: \nPlace flags\nSet flag line\nFamily arrives at 12:30 pm\nFuneral to follow at 1:00 pm\nEscort toHampton Cove Memory Gardens\n\nFlags & Water:\nFlags will be provided\nIf you have large bike flags\, please bring them.\nWater WILL NOT be provided\, please bring your own.\n\n\n\nSubmitted By: John Cooper \nPosition: Alabama Ride Captain \n\nNote: You do not have to own/ride a motorcycle or be a veteran to join\, and membership is Free. The only requirement is RESPECT! To subscribe to receive mission notices\, log into the National Site and click on the Members tab at the top. Select the Subscribe to PGR Missions option.\n Print This Page
URL:https://www.patriotguard.org/mission/rickey-dean-barnett/
CATEGORIES:Honor Mission
END:VEVENT
END:VCALENDAR