BEGIN:VCALENDAR
VERSION:2.0
PRODID:-//Patriot Guard Riders - ECPv5.3.2.1//NONSGML v1.0//EN
CALSCALE:GREGORIAN
METHOD:PUBLISH
X-WR-CALNAME:Patriot Guard Riders
X-ORIGINAL-URL:https://www.patriotguard.org
X-WR-CALDESC:Events for Patriot Guard Riders
BEGIN:VTIMEZONE
TZID:America/New_York
BEGIN:DAYLIGHT
TZOFFSETFROM:-0500
TZOFFSETTO:-0400
TZNAME:EDT
DTSTART:20190310T070000
END:DAYLIGHT
BEGIN:STANDARD
TZOFFSETFROM:-0400
TZOFFSETTO:-0500
TZNAME:EST
DTSTART:20191103T060000
END:STANDARD
END:VTIMEZONE
BEGIN:VEVENT
DTSTART;VALUE=DATE:20190703
DTEND;VALUE=DATE:20190704
DTSTAMP:20210404T054738
CREATED:20190629T161213Z
LAST-MODIFIED:20190629T161213Z
UID:166254-1562112000-1562198399@www.patriotguard.org
SUMMARY:Rickey Bellam
DESCRIPTION:Honor Mission\nRickey Bellam\, Veteran\nUSA –\nDallas\, Texas – 07-03-19\n\n\n\nABOUT THE MISSION: \nUnaccompanied Veteran. Eternal Rest Funeral Home has invited the Patriot Guard Riders to attend the interment of Army veteran Rickey Bellamy.\n\n\nPRIMARY STAGING DETAILS: 07-03-19 \nStaging Time: 09:15 AM\n \nDFW National Cemetery\n2000 Mountain Creek Pkwy\nDallas\, Texas 75211\n\n\nRide Captain: \nRick Elliott\nrick.elliott@yahoo.com\n(214) 356-7535\n\n\nSpecial Instructions: \nStaging Time: 0915\nBriefing Time: 0930\nIn Position/KSU Time: 0945\nStarting Time: 1000\nRiders will stage at the DFWNC visitor center for the mission brief. Flag bikes will be selected and moved to the staging lane. Remaining riders will proceed to the assigned shelter to post flags and await the funeral procession. After the service\, Flags will be returned to the storage unit. Riders will then be debriefed and dismissed.\n\n\nFlags & Water:\nFlags will be provided\nIf you have large bike flags\, please bring them.\nWater WILL NOT be provided\, please bring your own.\n\n\n\nSubmitted By: Dan Mathys \nPosition: Texas Ride Captain \n\nNote: You do not have to own/ride a motorcycle or be a veteran to join\, and membership is Free. The only requirement is RESPECT! To subscribe to receive mission notices\, log into the National Site and click on the Members tab at the top. Select the Subscribe to PGR Missions option.\n Print This Page
URL:https://www.patriotguard.org/mission/rickey-bellam/
CATEGORIES:Honor Mission
END:VEVENT
END:VCALENDAR