BEGIN:VCALENDAR
VERSION:2.0
PRODID:-//Patriot Guard Riders - ECPv5.3.2.1//NONSGML v1.0//EN
CALSCALE:GREGORIAN
METHOD:PUBLISH
X-WR-CALNAME:Patriot Guard Riders
X-ORIGINAL-URL:https://www.patriotguard.org
X-WR-CALDESC:Events for Patriot Guard Riders
BEGIN:VTIMEZONE
TZID:America/New_York
BEGIN:DAYLIGHT
TZOFFSETFROM:-0500
TZOFFSETTO:-0400
TZNAME:EDT
DTSTART:20190310T070000
END:DAYLIGHT
BEGIN:STANDARD
TZOFFSETFROM:-0400
TZOFFSETTO:-0500
TZNAME:EST
DTSTART:20191103T060000
END:STANDARD
END:VTIMEZONE
BEGIN:VEVENT
DTSTART;VALUE=DATE:20190904
DTEND;VALUE=DATE:20190906
DTSTAMP:20210401T023918
CREATED:20190903T002402Z
LAST-MODIFIED:20190903T002402Z
UID:172585-1567555200-1567727999@www.patriotguard.org
SUMMARY:Richard Wayne Ivy
DESCRIPTION:Honor Mission\nRichard Wayne Ivy\, Retired\nUSAF –\nMULTI-CITY\, Mississippi – 09-04-19\n\n\n\nABOUT THE MISSION: \nSMSgt Ivy proudly and honorably served 26 years in the U.S. Air Force with the 437th Military Airlift Wing (MAC) as an airplane mechanic. His medals include Air Force Good Conduct Medal w/2 Bronze 2 Oak Leaf Clusters\, Air Force Longevity Service Medal w/1 Bronze Oak Leaf Cluster\, Air Force Medal\, National Defense Service Medal. Following his retirement from the Air Force he worked for Mississippi Dept of Transportation – Law Enforcement Division\, retiring after 16 years.\n\n\nPRIMARY STAGING DETAILS: 09-04-19 \nStaging Time: 4:15 PM\n \nOtt & Lee Funeral Home\n1360 W. Government St\nBrandon\, Mississippi 39042\n\n\nRide Captain: \nRC Keith (Papa Bear) Grantham\n601-503-3773\n\n\nSpecial Instructions: \n\n\nFlags & Water:\nFlags will be provided\nLarge Bike Flags will NOT be needed.\nWater WILL NOT be provided\, please bring your own.\n\nSTAGING #2 DETAILS: 09-05-19 \nStaging Time: 12:45 PM\n \nMS Veterans Memorial Cemetery Committal Shelter\n258 Honors Circle\nNewton\, Mississippi 39345\n\n\nRide Captain: \nRC M.L. Henley\n601-479-5807\n\n\nSpecial Instructions: \n\n\nFlags & Water:\nFlags will be provided\nLarge Bike Flags will NOT be needed.\nWater WILL NOT be provided\, please bring your own.\n\n\n\nSubmitted By: Roger Barrett \nPosition: Mississippi State Captain \n\nNote: You do not have to own/ride a motorcycle or be a veteran to join\, and membership is Free. The only requirement is RESPECT! To subscribe to receive mission notices\, log into the National Site and click on the Members tab at the top. Select the Subscribe to PGR Missions option.\n Print This Page
URL:https://www.patriotguard.org/mission/richard-wayne-ivy/
CATEGORIES:Honor Mission
END:VEVENT
END:VCALENDAR