BEGIN:VCALENDAR
VERSION:2.0
PRODID:-//Patriot Guard Riders - ECPv5.3.2.1//NONSGML v1.0//EN
CALSCALE:GREGORIAN
METHOD:PUBLISH
X-WR-CALNAME:Patriot Guard Riders
X-ORIGINAL-URL:https://www.patriotguard.org
X-WR-CALDESC:Events for Patriot Guard Riders
BEGIN:VTIMEZONE
TZID:America/New_York
BEGIN:DAYLIGHT
TZOFFSETFROM:-0500
TZOFFSETTO:-0400
TZNAME:EDT
DTSTART:20190310T070000
END:DAYLIGHT
BEGIN:STANDARD
TZOFFSETFROM:-0400
TZOFFSETTO:-0500
TZNAME:EST
DTSTART:20191103T060000
END:STANDARD
END:VTIMEZONE
BEGIN:VEVENT
DTSTART;VALUE=DATE:20190614
DTEND;VALUE=DATE:20190615
DTSTAMP:20210405T001636
CREATED:20190612T030110Z
LAST-MODIFIED:20190612T030110Z
UID:164512-1560470400-1560556799@www.patriotguard.org
SUMMARY:Richard Villegas
DESCRIPTION:Honor Mission\nRichard Villegas\, Veteran\nUSN – Vietnam\nMarana\, Arizona – 06-14-19\n\n\n\nABOUT THE MISSION: \nRichard Villegas was born in Weslaco\, Texas\, on 21 March 1948\, one of seven children. In 1967\, at nineteen years of age\, Richard heard the calling and enlisted in the United States Navy. ABH3 Petty Officer Villegas served this nation proudly until his honorable discharge in 1971. ABH Petty Officer Villegas passed on 4 June 2019. His family and friends will always remember his Patriotism and willingness to help those in need.\n\n\nPRIMARY STAGING DETAILS: 06-14-19 \nStaging Time: 10:15 AM\n \nR & R Pizza Parking lot\n13905 N. Sandario Road\nMarana\, Arizona 85653\n\n\nRide Captain: \nDevil Dog\n520-795-0414\n\nFlag Captain: DaFlagGuy\, 520-241-530\n\n\nSpecial Instructions: \nStaging: 10:15am\nBriefing: 10:20am\nKSU to Arizona Veterans Memorial Cemetery: 10:30am\n**Please hydrate the day before as well as the day of**\n\n\nFlags & Water:\nFlags will be provided\nIf you have large bike flags\, please bring them.\nWater will be provided.\n\n\n\nSubmitted By: Robi Campbell \nPosition: Arizona Assistant State Captain \n\nNote: You do not have to own/ride a motorcycle or be a veteran to join\, and membership is Free. The only requirement is RESPECT! To subscribe to receive mission notices\, log into the National Site and click on the Members tab at the top. Select the Subscribe to PGR Missions option.\n Print This Page
URL:https://www.patriotguard.org/mission/richard-villegas/
CATEGORIES:Honor Mission
END:VEVENT
END:VCALENDAR