BEGIN:VCALENDAR
VERSION:2.0
PRODID:-//Patriot Guard Riders - ECPv5.6.0//NONSGML v1.0//EN
CALSCALE:GREGORIAN
METHOD:PUBLISH
X-WR-CALNAME:Patriot Guard Riders
X-ORIGINAL-URL:https://www.patriotguard.org
X-WR-CALDESC:Events for Patriot Guard Riders
BEGIN:VTIMEZONE
TZID:America/New_York
BEGIN:DAYLIGHT
TZOFFSETFROM:-0500
TZOFFSETTO:-0400
TZNAME:EDT
DTSTART:20160313T070000
END:DAYLIGHT
BEGIN:STANDARD
TZOFFSETFROM:-0400
TZOFFSETTO:-0500
TZNAME:EST
DTSTART:20161106T060000
END:STANDARD
END:VTIMEZONE
BEGIN:VEVENT
DTSTART;TZID=America/New_York:20160713T090000
DTEND;TZID=America/New_York:20160713T110000
DTSTAMP:20210513T000602
CREATED:20160713T130000Z
LAST-MODIFIED:20191201T144406Z
UID:410653-1468400400-1468407600@www.patriotguard.org
SUMMARY:Richard Seltman\, 74\, USAF Veteran / Port Richey -  Bushnell
DESCRIPTION:The family of A2C Richard Seltman  has graciously requested the Patriot Guard Rider’s presence as they  show their final respects and lay their loved one to rest. \nA2C Seltman  served his country in the U.S. Air Force and performed duties as an  Organizational Supply Specialist. \nUpon  completion of his service to our country\, A2C Seltman received an  Honorable Discharge and was awarded a National Defense Service Medal and an  Air Force Outstanding Unit Award. \nPlease  bring your 3 X 5 American Flags and join us as we stand in silent Honor  and Respect for our U.S. Air Force Hero and his family. \nNote: This is a two-part mission. \nPart 1 is a flag line followed by an escort (approximately 50 miles) to Bushnell. \nPart 2 is a committal service at Florida National Cemetery\, Bushnell. \nFlag Bikes are strongly encourage for Part 1 of this mission. \nItinerary:\nPart 1\nFaupel Funeral Home\n7524 Ridge Rd.\nPort Richie\, FL. 34668\nMap:   https://goo.gl/NKZugP \nStage:              0830 hrs\nBrief:                0845hrs \nFlag Line:          As determined by Ride Captain\nService:            0900 hrs\nEscort KSU:      0930 hrs (or as determined by Ride Captain) \nRide Captain:    Don “Red Ripper” Covey\nRC Email:         redripper22@yahoo.com\nRC Cell:            727-207-5897 \nPart 2\nFlorida National Cemetery\n6502 SW 102nd Ave\nBushnell\, FL.\, 33513 \nMap:   https://goo.gl/NCulJL \nStage:              1000 hrs\nBrief:                1015hrs \nFlag Line:          As determined by Ride Captain\nService:            1100 hrs \nRide Captain:    Doug “Easy D” Stone\nRC Email:         dshone34@ymail.com\nRC Cell:            352-603-0212
URL:https://www.patriotguard.org/mission/richard-seltman-74-usaf-veteran-port-richey-bushnell/
CATEGORIES:Archive
END:VEVENT
END:VCALENDAR