BEGIN:VCALENDAR
VERSION:2.0
PRODID:-//Patriot Guard Riders - ECPv5.3.2.1//NONSGML v1.0//EN
CALSCALE:GREGORIAN
METHOD:PUBLISH
X-WR-CALNAME:Patriot Guard Riders
X-ORIGINAL-URL:https://www.patriotguard.org
X-WR-CALDESC:Events for Patriot Guard Riders
BEGIN:VTIMEZONE
TZID:America/New_York
BEGIN:DAYLIGHT
TZOFFSETFROM:-0500
TZOFFSETTO:-0400
TZNAME:EDT
DTSTART:20090308T070000
END:DAYLIGHT
BEGIN:STANDARD
TZOFFSETFROM:-0400
TZOFFSETTO:-0500
TZNAME:EST
DTSTART:20091101T060000
END:STANDARD
END:VTIMEZONE
BEGIN:VEVENT
DTSTART;TZID=America/New_York:20090424T090000
DTEND;TZID=America/New_York:20090424T110000
DTSTAMP:20210405T190402
CREATED:20090424T130000Z
LAST-MODIFIED:20191201T112219Z
UID:378430-1240563600-1240570800@www.patriotguard.org
SUMMARY:Richard "Rich" S. Lacey\, USA\, Vietnam Veteran / PGR
DESCRIPTION:Richard “Rich” S. Lacey\, 62 \n \nVietnam Veteran\, PGR Member \nRich was a long time PGR member. He has stood the flag line in honor of our heroes. With heavy heart\, we will now stand in honor of him. Thank you Rich for your service to our country\, your community and the Patriot Guard Riders. \nCalling hours will be held on Friday\, April 24\, 2009\, from 5-8 p.m.\, in the Memorial Funeral Home\, 375 Broadway\, Newport\, RI.\nPlease plan on meeting at Memorial 20 minutes early.\n \n>> MAPBRING FLAGS
URL:https://www.patriotguard.org/mission/richard-rich-s-lacey-usa-vietnam-veteran-pgr/
CATEGORIES:Archive
END:VEVENT
END:VCALENDAR