BEGIN:VCALENDAR
VERSION:2.0
PRODID:-//Patriot Guard Riders - ECPv5.3.2.1//NONSGML v1.0//EN
CALSCALE:GREGORIAN
METHOD:PUBLISH
X-WR-CALNAME:Patriot Guard Riders
X-ORIGINAL-URL:https://www.patriotguard.org
X-WR-CALDESC:Events for Patriot Guard Riders
BEGIN:VTIMEZONE
TZID:America/New_York
BEGIN:DAYLIGHT
TZOFFSETFROM:-0500
TZOFFSETTO:-0400
TZNAME:EDT
DTSTART:20190310T070000
END:DAYLIGHT
BEGIN:STANDARD
TZOFFSETFROM:-0400
TZOFFSETTO:-0500
TZNAME:EST
DTSTART:20191103T060000
END:STANDARD
END:VTIMEZONE
BEGIN:VEVENT
DTSTART;VALUE=DATE:20190918
DTEND;VALUE=DATE:20190919
DTSTAMP:20210401T123818
CREATED:20190917T025318Z
LAST-MODIFIED:20190917T025318Z
UID:174412-1568764800-1568851199@www.patriotguard.org
SUMMARY:Richard R. Schmick
DESCRIPTION:Honor Mission\nRichard R. Schmick\, Veteran\nUSA – WWII\nEmmaus\, Pennsylvania – 09-18-19\n\n\n\nABOUT THE MISSION: \nThe family of Army WWII veteran Corporal Richard R Schmick has requested the Patriot Guard Riders stand to honor his service at his viewing Wednesday September 18th. Corporal Schmick served in the Army from 7/1/1942 until he was discharged on 1/6/1946 as a member of the 1403 Army Air Force unit. He was awarded the Good Conduct Metal\, the WWII Victory Level Metal\, the American Service Metal and the EMAE Service Metal. Richard R Schmick is a patriot who served our country with honor and now it is our turn to stand and honor him.\n\n\nPRIMARY STAGING DETAILS: 09-18-19 \nStaging Time: 6:30 pm  \nSchantz Funeral Home\n250 Main St.\nEmmaus\, Pennsylvania 18049\nMap\n\n\nRide Captain: \nBill Ryan\nPhone: 610-462-5161\nE-Mail: patriot@rcn.com\n\n\nSpecial Instructions: \nStage at Schantz Funeral Home.\nViewing only from 7:00 pm to 8:30 pm\n\n\nFlags & Water:\nFlags will not be provided\nLarge Bike Flags will NOT be needed.\nWater WILL NOT be provided\, please bring your own.\n\n\n\nSubmitted By: Joyce Pawlowski \nPosition: Pennsylvania HOTH Coordinator \n\nNote: You do not have to own/ride a motorcycle or be a veteran to join\, and membership is Free. The only requirement is RESPECT! To subscribe to receive mission notices\, log into the National Site and click on the Members tab at the top. Select the Subscribe to PGR Missions option.\n Print This Page
URL:https://www.patriotguard.org/mission/richard-r-schmick/
CATEGORIES:Honor Mission
END:VEVENT
END:VCALENDAR