BEGIN:VCALENDAR
VERSION:2.0
PRODID:-//Patriot Guard Riders - ECPv5.3.2.1//NONSGML v1.0//EN
CALSCALE:GREGORIAN
METHOD:PUBLISH
X-WR-CALNAME:Patriot Guard Riders
X-ORIGINAL-URL:https://www.patriotguard.org
X-WR-CALDESC:Events for Patriot Guard Riders
BEGIN:VTIMEZONE
TZID:America/New_York
BEGIN:DAYLIGHT
TZOFFSETFROM:-0500
TZOFFSETTO:-0400
TZNAME:EDT
DTSTART:20170312T070000
END:DAYLIGHT
BEGIN:STANDARD
TZOFFSETFROM:-0400
TZOFFSETTO:-0500
TZNAME:EST
DTSTART:20171105T060000
END:STANDARD
END:VTIMEZONE
BEGIN:VEVENT
DTSTART;TZID=America/New_York:20171003T095000
DTEND;TZID=America/New_York:20171003T115000
DTSTAMP:20210403T120816
CREATED:20171003T135000Z
LAST-MODIFIED:20191201T031259Z
UID:317223-1507024200-1507031400@www.patriotguard.org
SUMMARY:Richard Paul Tomaszewicz\, Veteran\, USA
DESCRIPTION:Richard Paul Tomaszewicz\, Veteran\nUSA\nCanton\, Georgia – 03 Oct 2017\n\n\n[HR][/HR]\nABOUT THE MISSION: \n\nRichard Tomaszewicz\n1944 – 2107 \nIt is with a heavy heart that I report the loss of another American hero a Vietnam Era Veteran\, SPEC 4 Richard Tomaszewicz\, Army \nThe family of Richard (Rich) Tomaszewicz have requested the presence of the Patriot Guard at Georgia National Cemetery. Family will transporting the cremains and we will Stand a silent flag line during the committal service to show Respect and Honor for their Hero. \nRich enlisted in the Army\, June 1965.  After basic\, he attended Army finance and accounting schools at Fort Benjamin Harrison\, Indiana.   Rich was then posted to the Army “listening radio station” Asmara\, Eritrea [Ethiopia]. He was later transferred to Fort Stewart and continued to live in the Savannah area after his active duty discharge in 1969.\n \n\nPRIMARY STAGING DETAILS:  03 Oct 2017\nPrimary Staging Time: 9:50 A.M. \n\nPIC Building\nParking lot\nGeorgia National Cemetery\n1080 Scott Hudgens Drive\nCanton\, Georgia – 30114\n\n\nRide Captain: \n\nTom “Knobby” Walsh\npatriotguardrider.tom@gmail.com\n770-605-6903\n\n\nSpecial Instructions: \n\nWe will assemble at the PIC building then move to the assigned shelter to set the flag line.\n\n\nFlags & Water: \n\nFlags Will Be Provided\nLarge Bike Flags will NOT be needed.\nWater will be provided.\n\n\nSubmitted By: Tom Walsh\nPosition: Assistant State Captain\n[HR][/HR]Note:\nYou do not have to own/ride a motorcycle or be a Veteran to join and membership is Free. The only requirement is RESPECT! To join\, simply go to www.PatriotGuard.org and click on Register. Membership is Free. \nTo subscribe to receive mission notices\, log into the National Site and click on the Mission Tab at the top. Select the Subscribe to Missions option.
URL:https://www.patriotguard.org/mission/richard-paul-tomaszewicz-veteran-usa-2/
END:VEVENT
END:VCALENDAR