BEGIN:VCALENDAR
VERSION:2.0
PRODID:-//Patriot Guard Riders - ECPv5.3.2.1//NONSGML v1.0//EN
CALSCALE:GREGORIAN
METHOD:PUBLISH
X-WR-CALNAME:Patriot Guard Riders
X-ORIGINAL-URL:https://www.patriotguard.org
X-WR-CALDESC:Events for Patriot Guard Riders
BEGIN:VTIMEZONE
TZID:America/New_York
BEGIN:DAYLIGHT
TZOFFSETFROM:-0500
TZOFFSETTO:-0400
TZNAME:EDT
DTSTART:20190310T070000
END:DAYLIGHT
BEGIN:STANDARD
TZOFFSETFROM:-0400
TZOFFSETTO:-0500
TZNAME:EST
DTSTART:20191103T060000
END:STANDARD
END:VTIMEZONE
BEGIN:VEVENT
DTSTART;VALUE=DATE:20190621
DTEND;VALUE=DATE:20190622
DTSTAMP:20210405T042956
CREATED:20190620T214931Z
LAST-MODIFIED:20190620T214931Z
UID:165377-1561075200-1561161599@www.patriotguard.org
SUMMARY:Richard P. Skelton\, Sr.
DESCRIPTION:Honor Mission\nRichard P. Skelton\, Sr.\, Retired\nUSN –\nSuffolk\, Virginia – 06-21-19\n\n\n\nABOUT THE MISSION: \nThe Patriot Guard has been invited by the family of Richard P. Skelton\, Sr.\, DC1\, USN (Ret) to stand in honor of his service to our Country. Mr. Skelton served for 20 years\, including 4 years in the USCG. He was awarded the National Defense Service Medal (2) / Sea Service Deployment Ribbon (2) / Battle E (2) / Navy Expeditionary Medal / Good Conduct Medal (5) / Meritorious Unit Commendation / Enlisted Surface Warfare Specialist Designation / Navy Achievement Medal and the USCG Special Operations Service Ribbon. This will be a flag line mission only.\n\n\nPRIMARY STAGING DETAILS: 06-21-19 \nStaging Time: 2:15 PM\n \nAdministration Building\, Albert G. Horton Jr.\, Memorial Veterans Cemetery\n5310 Milners Road (enter through maintenance gate on Lake Prince Road)\nSuffolk\, Virginia 23434\n\n\nRide Captain: \nBecca “Lady Harley” Landick\nbecca.landick@virginiapatriotguard.org\n757-617-2093\n\nCo-RC: TBD. Ride Captains In Training (RCIT) are encouraged to participate\n\n\nSpecial Instructions: \nThis will be a Flag Line Mission Only.\nBrief at 2:30 PM\nSet the Flag Line at 2:40 PM\n\n\nFlags & Water:\nFlags will be provided\nLarge Bike Flags will NOT be needed.\nWater WILL NOT be provided\, please bring your own.\n\n\n\nSubmitted By: Becca Landick \nPosition: Virginia State Captain \n\nNote: You do not have to own/ride a motorcycle or be a veteran to join\, and membership is Free. The only requirement is RESPECT! To subscribe to receive mission notices\, log into the National Site and click on the Members tab at the top. Select the Subscribe to PGR Missions option.\n Print This Page
URL:https://www.patriotguard.org/mission/richard-p-skelton-sr/
CATEGORIES:Honor Mission
END:VEVENT
END:VCALENDAR