BEGIN:VCALENDAR
VERSION:2.0
PRODID:-//Patriot Guard Riders - ECPv5.3.2.1//NONSGML v1.0//EN
CALSCALE:GREGORIAN
METHOD:PUBLISH
X-WR-CALNAME:Patriot Guard Riders
X-ORIGINAL-URL:https://www.patriotguard.org
X-WR-CALDESC:Events for Patriot Guard Riders
BEGIN:VTIMEZONE
TZID:America/New_York
BEGIN:DAYLIGHT
TZOFFSETFROM:-0500
TZOFFSETTO:-0400
TZNAME:EDT
DTSTART:20170312T070000
END:DAYLIGHT
BEGIN:STANDARD
TZOFFSETFROM:-0400
TZOFFSETTO:-0500
TZNAME:EST
DTSTART:20171105T060000
END:STANDARD
END:VTIMEZONE
BEGIN:VEVENT
DTSTART;TZID=America/New_York:20170424T100000
DTEND;TZID=America/New_York:20170424T120000
DTSTAMP:20210401T212501
CREATED:20170424T140000Z
LAST-MODIFIED:20191201T033520Z
UID:336228-1493028000-1493035200@www.patriotguard.org
SUMMARY:Richard M. Lehner Sr\, Veteran\, USA
DESCRIPTION:Richard M. Lehner Sr.\, Veteran \nUSA \nMULTI-CITY\, New York – 24 Apr 2017\n\n\n\n[HR][/HR] \n\n\n\n\nABOUT THE MISSION: \nThe family of Mr. Richard M. Lehner\, United States Army Korean War Era  Veteran has requested Patriot Guard Rider presence at his military  honors funeral services. \nNarrative:\nRichard “Dick” M. Lehner Sr.\, 83\, passed away on April 19\, 2017 at home  surrounded by his family after a brief but courageous battle with  cancer. Born in Albany NY\, he graduated from Christian Brothers Academy  in 1952 and served in the U.S. Army with the Corps of Engineers from  1953 to 1955.  His MOS was 1729\, Combat Construction Specialist.  For  his service\, he was awarded the National Defense Service Medal and was  Honorably discharged at the rank of Sergeant. \nUpon his discharge\, Dick returned home and attended Hudson Valley  Community College\, graduating in 1957. He began working for the American  Telephone and Telegraph Company (AT&T)\, retiring in 1988.  Dick  filled his retirement years with his many hobbies and interests. He was a  proud member of the NRA\, the Bethlehem Sportsman Club\, the Pioneers  (Telephone Pioneers of America)\, and the ELKS. He volunteered as a  member of the Pioneers for many years to repair broken toys for the  Albany PBA\, and repaired Books on Tape recorders for the blind and  visually handicapped. \nThe Patriot Guard Riders are proud to have the opportunity to stand for  and display dignity\, honor and respect for the life and service of  United States Army Veteran\, and my friend\, Mr. Richard M. Lehner. \nPRIMARY STAGING DETAILS:  24 Apr 2017\n \n\n\n\nPrimary Staging Time:  10:00 A.M.\n\nDaniel Keenan Funeral Home\n490 Delaware Avenue\n\nAlbany\, New York – 12209\n\n\n\n\n\n \n\n\n\nRide Captain:\n\nRay Sestak\nrayspgrny@gmail.com\n(518)-669-3358\n\n\n\n \n\n\n\nSpecial Instructions:\n\nStaging at 10:00 AM at the funeral home for the arrival of  the family.  Following a brief ceremony\, PGR members will escort to the  church for an 11:30 AM funeral mass: \nSt. Francis Assisi Church\n391 Delaware Avenue\nAlbany\, NY\n\n\n\n \n\n\n\nFlags & Water:\n\nFlags will NOT be provided. Please bring your own.\n\nIf you have large bike flags\, please bring them.\n\nWater WILL NOT be provided. Please bring your own.\n\n\n \n\n[HR][/HR]\nSTAGING #2 DETAILS:  24 Apr 2017\n \n\n\n\n Staging #2 Time:  1:30 P.M.\n\nGerald B.H. Solomon\nSaratoga National cemetery\n200 Duell Road\n\nSchuylerville\, New York – 12871\n\n\n\n\n\n \n\n\n\nRide Captain:\n\nRay Sestak\nrayspgrny@gmail.com\n(518)-669-3358\n\n\n\n \n\n\n\nSpecial Instructions:\n\nFor those members staging directly at the cemetery\, please  stage quietly at Interment Shelter #2 and be aware of any services in  progress:\n\n\n\n \n\n\n\nFlags & Water:\n\nFlags will NOTbe provided. Please bring your own.\n\nLarge bike flags will NOT be needed\n\nWater WILL NOT be provided. Please bring your own.\n\n\n \nSubmitted By:  Ray Sestak\nPosition:  Assistant State Captain \n\n[HR][/HR]\nNote:\n\nYou do not have to own/ride a motorcycle or be a Veteran to join and membership is Free. The only requirement is RESPECT! To join\, simply go to www.PatriotGuard.org and click on Register. Membership is Free. \nTo subscribe to receive mission notices\, log into the National Site and  click on the Mission Tab at the top. Select Upcoming Missions by State.  Scroll to the state(s) you would like to receive notices for and click  on the green check mark. Detailed instructions are also located in the  FAQs on the site by clicking on the Quick Links Tab and selecting FAQs.
URL:https://www.patriotguard.org/mission/richard-m-lehner-sr-veteran-usa/
LOCATION:Coley Marshall Jr.
END:VEVENT
END:VCALENDAR