BEGIN:VCALENDAR
VERSION:2.0
PRODID:-//Patriot Guard Riders - ECPv5.3.2.1//NONSGML v1.0//EN
CALSCALE:GREGORIAN
METHOD:PUBLISH
X-WR-CALNAME:Patriot Guard Riders
X-ORIGINAL-URL:https://www.patriotguard.org
X-WR-CALDESC:Events for Patriot Guard Riders
BEGIN:VTIMEZONE
TZID:America/New_York
BEGIN:DAYLIGHT
TZOFFSETFROM:-0500
TZOFFSETTO:-0400
TZNAME:EDT
DTSTART:20190310T070000
END:DAYLIGHT
BEGIN:STANDARD
TZOFFSETFROM:-0400
TZOFFSETTO:-0500
TZNAME:EST
DTSTART:20191103T060000
END:STANDARD
END:VTIMEZONE
BEGIN:VEVENT
DTSTART;VALUE=DATE:20190907
DTEND;VALUE=DATE:20190908
DTSTAMP:20210401T082007
CREATED:20190906T040209Z
LAST-MODIFIED:20190906T040209Z
UID:172968-1567814400-1567900799@www.patriotguard.org
SUMMARY:Richard Lon "Dick" Nelson
DESCRIPTION:Memorial\nRichard Lon “Dick” Nelson\, Veteran\nUSN –\nOsage Beach\, Missouri – 09-07-19\n\n\n\nABOUT THE MISSION: \nThe family of Richard Lon “Dick” Nelson has requested the Patriot Guard Riders provide a flag line and motorcycle escort as they honor their fallen hero. In addition to serving in the Navy before his release in 1972\, Mr. Nelson also served his community as a Firefighter for 15 years as well as a Correctional Officer with the Missouri State Corrections Department in Jefferson City. They have asked that we stand a flag line at his service and to provide a motorcycle escort to his final resting place approximately 15 miles to the cemetery.\n\n\nPRIMARY STAGING DETAILS: 09-07-19 \nStaging Time: 08:03 AM\n \nHedges Scott Funeral Home\n514 Highway 42\nOsage Beach\, Missouri 65065\nMap\n\n\nRide Captain: \nJohn Morlock\njohn@johnmorlock.com\n(573) 280-3240\n\n\nSpecial Instructions: \nMission Briefing: 08:30\nFlag line prior to the family’s arrival for visitation at 09:00.\nVisitation shall be from 09:00 to 11:00 followed by a short service.\nAn escort shall follow to the graveside service with Military Honors which will be at 12:00 noon at Greenmore Memorial Gardens in Barnett\, Missouri.\n\n\nFlags & Water:\nFlags will be provided\nIf you have large bike flags\, please bring them.\nWater will be provided.\n\n\n\nSubmitted By: John Morlock \nPosition: Missouri Ride Captain \n\nNote: You do not have to own/ride a motorcycle or be a veteran to join\, and membership is Free. The only requirement is RESPECT! To subscribe to receive mission notices\, log into the National Site and click on the Members tab at the top. Select the Subscribe to PGR Missions option.\n Print This Page
URL:https://www.patriotguard.org/mission/richard-lon-dick-nelson/
CATEGORIES:Memorial
END:VEVENT
END:VCALENDAR