BEGIN:VCALENDAR
VERSION:2.0
PRODID:-//Patriot Guard Riders - ECPv5.6.0//NONSGML v1.0//EN
CALSCALE:GREGORIAN
METHOD:PUBLISH
X-WR-CALNAME:Patriot Guard Riders
X-ORIGINAL-URL:https://www.patriotguard.org
X-WR-CALDESC:Events for Patriot Guard Riders
BEGIN:VTIMEZONE
TZID:America/New_York
BEGIN:DAYLIGHT
TZOFFSETFROM:-0500
TZOFFSETTO:-0400
TZNAME:EDT
DTSTART:20160313T070000
END:DAYLIGHT
BEGIN:STANDARD
TZOFFSETFROM:-0400
TZOFFSETTO:-0500
TZNAME:EST
DTSTART:20161106T060000
END:STANDARD
END:VTIMEZONE
BEGIN:VEVENT
DTSTART;TZID=America/New_York:20160617T090000
DTEND;TZID=America/New_York:20160617T110000
DTSTAMP:20210513T142656
CREATED:20160617T130000Z
LAST-MODIFIED:20191201T145235Z
UID:411421-1466154000-1466161200@www.patriotguard.org
SUMMARY:Richard Lee Cooper
DESCRIPTION:The Patriot Guard Riders have been honored by the loved ones of Richard Lee Cooper\, to pay respect & render honors to their Loved one\, at his memorial service\, at Missouri Stare Veterans Cemetery Springfield MO on 17 June 2016. \nHero Cooper served in the USAF from 1960-1964. He was especially proud of his service during the Cuban Missile Crisis. This is a flag line only mission\, we will stage at the Phillips 66 at the junction of HWY 65 and Evans Rd.. \nStage: 13:00 \nBriefing 13:30 \nService: 14:00 \nHOTH Captain\nHolly Anthony\ngofer12.ha@gmail.com
URL:https://www.patriotguard.org/mission/richard-lee-cooper/
CATEGORIES:Archive
END:VEVENT
END:VCALENDAR