BEGIN:VCALENDAR
VERSION:2.0
PRODID:-//Patriot Guard Riders - ECPv5.3.2.1//NONSGML v1.0//EN
CALSCALE:GREGORIAN
METHOD:PUBLISH
X-WR-CALNAME:Patriot Guard Riders
X-ORIGINAL-URL:https://www.patriotguard.org
X-WR-CALDESC:Events for Patriot Guard Riders
BEGIN:VTIMEZONE
TZID:America/New_York
BEGIN:DAYLIGHT
TZOFFSETFROM:-0500
TZOFFSETTO:-0400
TZNAME:EDT
DTSTART:20190310T070000
END:DAYLIGHT
BEGIN:STANDARD
TZOFFSETFROM:-0400
TZOFFSETTO:-0500
TZNAME:EST
DTSTART:20191103T060000
END:STANDARD
END:VTIMEZONE
BEGIN:VEVENT
DTSTART;VALUE=DATE:20190928
DTEND;VALUE=DATE:20190929
DTSTAMP:20210401T103138
CREATED:20190927T145859Z
LAST-MODIFIED:20190927T145859Z
UID:176718-1569628800-1569715199@www.patriotguard.org
SUMMARY:Richard L. Johnson
DESCRIPTION:Honor Mission\nRichard L. Johnson\, Retired\nUSAF –\nWake Forest\, North Carolina – 09-28-19\n\n\n\nABOUT THE MISSION: \nFellow Patriots\, we have been honored with an invitation to stand for retired US Air Force veteran and fellow PGR Member Richard L. Johnson as he stood for us. After retiring from the US Air Force following 20 years of service\, he volunteered with Federal Point Volunteer Fire Department and Carolina Beach Volunteer Fire Department. During the Christmas season for several years during the early 1990’s he could be seen at the corner of Cape Fear Blvd. and Dow Road on Carolina Beach dressed as Santa Clause waving to people as they drove by. He enjoyed watching NASCAR\, the Green Bay Packers\, fishing\, standing the flag line with the American Honor Guard and Patriot Guard Riders\, and riding his motorcycle for pleasure before he became ill. This will be a flag line only mission. Please join me in honoring his service to our country and in supporting his family.\nObituary\nI will be honored to serve as RC for this mission. Thank you for all that you do to honor our heroes and their families.\n\n\n\nPRIMARY STAGING DETAILS: 09-28-19 \nStaging Time: 09:00  \nBright Funeral Home & Cremation Center\n405 S. Main St.\nWake Forest\, North Carolina 27587 \nMap\n\n\nRide Captain: \nRandy Bright\n919-616-4603\n\n\nSpecial Instructions: \nStaging: 9:00AM\nBriefing: 9:30AM\nFlagline: Following Briefing.\nWe will stand down when the service begins at 11:00AM\n\n\nFlags & Water:\nFlags will be provided\nLarge Bike Flags will NOT be needed.\nWater will be provided.\n\n\n\nSubmitted By: Randy Bright \nPosition: North Carolina Ride Captain \n\nNote: You do not have to own/ride a motorcycle or be a veteran to join\, and membership is Free. The only requirement is RESPECT! To subscribe to receive mission notices\, log into the National Site and click on the Members tab at the top. Select the Subscribe to PGR Missions option.\n Print This Page
URL:https://www.patriotguard.org/mission/richard-l-johnson/
CATEGORIES:Honor Mission
END:VEVENT
END:VCALENDAR