BEGIN:VCALENDAR
VERSION:2.0
PRODID:-//Patriot Guard Riders - ECPv5.3.2.1//NONSGML v1.0//EN
CALSCALE:GREGORIAN
METHOD:PUBLISH
X-WR-CALNAME:Patriot Guard Riders
X-ORIGINAL-URL:https://www.patriotguard.org
X-WR-CALDESC:Events for Patriot Guard Riders
BEGIN:VTIMEZONE
TZID:America/New_York
BEGIN:DAYLIGHT
TZOFFSETFROM:-0500
TZOFFSETTO:-0400
TZNAME:EDT
DTSTART:20190310T070000
END:DAYLIGHT
BEGIN:STANDARD
TZOFFSETFROM:-0400
TZOFFSETTO:-0500
TZNAME:EST
DTSTART:20191103T060000
END:STANDARD
END:VTIMEZONE
BEGIN:VEVENT
DTSTART;VALUE=DATE:20190924
DTEND;VALUE=DATE:20190925
DTSTAMP:20210401T021648
CREATED:20190920T175513Z
LAST-MODIFIED:20190920T182334Z
UID:175662-1569283200-1569369599@www.patriotguard.org
SUMMARY:Richard L. Bailey
DESCRIPTION:Honor Mission\nRichard L. Bailey\, Veteran\nUSN\nHolly\, Michigan – 09-24-19\n\n\n\nABOUT THE MISSION: \nThe Family of Mr. Richard L. Bailey has requested the Patriot Guard Riders to do a silent flag line in honor of his service to our country. Mr.Bailey leaves behind one son.\n\n\nPRIMARY STAGING DETAILS: 09-24-19 \nStaging Time: 1:15 pm  \nMcDonald’s15187 N. Holly Rd.\nHolly\, Michigan 48442\nhttps://goo.gl/maps/FXXvL9FuMepQMmDTA\n\n\nRide Captain: \nBUBBA\n(734) 658-0995\n\n\nSpecial Instructions: \nBriefing: 1:40 PM\nKSU: 2:05 PM\n\n\nFlags & Water:\nFlags will not be provided\nLarge Bike Flags will NOT be needed.\nWater WILL NOT be provided\, please bring your own.\n\nSubmitted By: Terrence Laurencelle \nPosition: Michigan Ride Captain \n\nNote: You do not have to own/ride a motorcycle or be a veteran to join\, and membership is Free. The only requirement is RESPECT! To subscribe to receive mission notices\, log into the National Site and click on the Members tab at the top. Select the Subscribe to PGR Missions option.\n Print This Page
URL:https://www.patriotguard.org/mission/richard-l-bailey/
CATEGORIES:Honor Mission
END:VEVENT
END:VCALENDAR