BEGIN:VCALENDAR
VERSION:2.0
PRODID:-//Patriot Guard Riders - ECPv5.3.2.1//NONSGML v1.0//EN
CALSCALE:GREGORIAN
METHOD:PUBLISH
X-WR-CALNAME:Patriot Guard Riders
X-ORIGINAL-URL:https://www.patriotguard.org
X-WR-CALDESC:Events for Patriot Guard Riders
BEGIN:VTIMEZONE
TZID:America/New_York
BEGIN:DAYLIGHT
TZOFFSETFROM:-0500
TZOFFSETTO:-0400
TZNAME:EDT
DTSTART:20190310T070000
END:DAYLIGHT
BEGIN:STANDARD
TZOFFSETFROM:-0400
TZOFFSETTO:-0500
TZNAME:EST
DTSTART:20191103T060000
END:STANDARD
END:VTIMEZONE
BEGIN:VEVENT
DTSTART;VALUE=DATE:20190601
DTEND;VALUE=DATE:20190602
DTSTAMP:20210405T030707
CREATED:20190530T134759Z
LAST-MODIFIED:20190530T135005Z
UID:162766-1559347200-1559433599@www.patriotguard.org
SUMMARY:Richard Joseph Thomson
DESCRIPTION:Honor Mission\nRichard Joseph Thomson\, KIA\nUSN – WWII\nLeague City\, Texas – 06-01-19\n\n\n\nABOUT THE MISSION: \nRichard “Dick” Joseph Thomson passed away on December 7\, 1941 in Pearl Harbor\, Hawaii at the age of 18 years old almost 19. He was born in Texas City\, Texas to James Farquhar Thomson (father) Pearl Mitchell Thomson (mother). He was serving in the US Navy aboard the USS Oklahoma when he was killed during the Japanese attack on Pearl Harbor. Richard “Dick” enlisted in the Navy after graduating High School in 1939.\n\n\nPRIMARY STAGING DETAILS: 06-01-19 \nStaging Time: 11:00 am\n \nCrowder Funeral Home – League City\n1645 East Main Street\nLeague City\, Texas 77573\nhttps://goo.gl/maps/tBAum2BTasD4oF6XA\n\n\nRide Captain: \nJohn Darner\n(713) 817-8112\npgrrchouston@yahoo.com\n\n\nSpecial Instructions: \nStaging Time: 11:00 am – 11:45 am\nBriefing Time: 11:45 am\nIn position time or KSU: 12:00 pm\nDirections: Funeral Home is east of I-45 on E. Main From I-45 exit W. Main\, exit 23 and travel east\nPlease note all services will be at the grave site. We will stand a flag line at the funeral home to welcome the family between Noon to 12:30 PM then move to the cemetery.\n\n\nFlags & Water:\nFlags will be provided\nIf you have large bike flags\, please bring them.\nWater will be provided.\n\nSTAGING #2 DETAILS: 06-01-19 \nStaging Time: 12:30 pm\n \nFairview Cemetery901 N. Kansas Street\nLeague City\, Texas 77573\nhttps://goo.gl/maps/cCfRe2oHR6LTzXx39\n\n\nRide Captain: \nRide Captain: John DarnerPhone number: (713) 817-8112 Email address: pgrrchouston@yahoo.com\n\n\nSpecial Instructions: \nStaging Time: 12:30 pm – 1:00 pm\nIn position time or KSU: 1:00 pm\nWe will stand a flag line for Seaman Richard “Dick” Joseph Thomson\, at the funeral home to welcome his family and at the cemetery for his services. Flags bikes are requested for the procession to the cemetery. The FAST team will depart for the cemetery at 12:30 If you cannot be at the funeral home by 12:30 then please join us at the cemetery service before 1PM. Location below:Map from funeral home to the cemetery: https://goo.gl/maps/8VsXv8B78eKgtFgK8\n\n\nFlags & Water:\nFlags will be provided\nIf you have large bike flags\, please bring them.\nWater will be provided.\n\nSubmitted By: Steve Cox \nPosition: Texas Ride Captain \n\nNote: You do not have to own/ride a motorcycle or be a veteran to join\, and membership is Free. The only requirement is RESPECT! To subscribe to receive mission notices\, log into the National Site and click on the Members tab at the top. Select the Subscribe to PGR Missions option.\n Print This Page
URL:https://www.patriotguard.org/mission/richard-joseph-thomson/
CATEGORIES:Honor Mission
END:VEVENT
END:VCALENDAR