BEGIN:VCALENDAR
VERSION:2.0
PRODID:-//Patriot Guard Riders - ECPv5.3.2.1//NONSGML v1.0//EN
CALSCALE:GREGORIAN
METHOD:PUBLISH
X-WR-CALNAME:Patriot Guard Riders
X-ORIGINAL-URL:https://www.patriotguard.org
X-WR-CALDESC:Events for Patriot Guard Riders
BEGIN:VTIMEZONE
TZID:America/New_York
BEGIN:DAYLIGHT
TZOFFSETFROM:-0500
TZOFFSETTO:-0400
TZNAME:EDT
DTSTART:20170312T070000
END:DAYLIGHT
BEGIN:STANDARD
TZOFFSETFROM:-0400
TZOFFSETTO:-0500
TZNAME:EST
DTSTART:20171105T060000
END:STANDARD
END:VTIMEZONE
BEGIN:VEVENT
DTSTART;TZID=America/New_York:20171106T113000
DTEND;TZID=America/New_York:20171106T133000
DTSTAMP:20210404T092622
CREATED:20171106T163000Z
LAST-MODIFIED:20191201T032556Z
UID:329505-1509967800-1509975000@www.patriotguard.org
SUMMARY:Richard Hamlyn\, Veteran\, USA - Vietnam
DESCRIPTION:Richard Hamlyn\, Veteran\nUSA  – Vietnam\nMehlville\, Missouri – 06 Nov 2017\n\n\n[HR][/HR]\nABOUT THE MISSION:\n\n \n\nIt is a most distinct honor and a  privilege for the Patriot Guard Riders\, at the family’s request\, to  stand a flag line of honor for United States Army Vietnam Veteran  Richard Hamlyn and escort him to Jefferson Barracks National Cemetery. \nVeteran Hamlyn proudly served in the U.S. Army from May 4\, 1966 to  February 7\, 1968.  He served in Vietnam for 13 months and  attained the  rank of Specialist 4th Class (SPC-4). He was awarded the following   commendations:  Purple Heart\, Vietnam Service Medal\, Vietnam Campaign  Medal\, National Defense Service Medal and Combat Infantry Badge.\n\n\n\nPRIMARY STAGING DETAILS:  06 Nov 2017\nPrimary Staging Time: 11:30 AM \n\nKutis Funeral Home\n5255 Lemay Ferry Rd (just south of Butler Hill Road)\nMehlville\, Missouri – 63129\n\n\nRide Captain: \n\n\nDan “Lt. Dan” Doerer\n(314) 576-5856\nj_d_doerer@att.net \n\nFlags & Support:\nDenny “Dutchman” Eads\n\n\n\nSpecial Instructions: \n\nWe will assemble on the North side.\n11:35 AM:  Ride Meeting\n11:45 AM:  Flag Line\n12:30 PM:  Service\nEscort to:  Jefferson Barracks National Cemetery\n1:30 PM:  JBNC arrival\nThe current NWS extended forecast for Monday: 50ºF – 54ºF\, 8-25% chance  of rain.\nCars are always welcome.  Please hydrate much more than you  believe necessary. \n\n\n\nFlags & Water: \n\nFlags Will Be Provided\nIf you have large bike flags\, please bring them.\nWater will be provided.\n\n\n \nSubmitted By: Dan Doerer\nPosition: Ride Captain\n[HR][/HR]Note:\n\nYou do not have to own/ride a motorcycle or be a Veteran to join and membership is Free. The only requirement is RESPECT! To join\, simply go to www.PatriotGuard.org and click on Register. Membership is Free. \nTo subscribe to receive mission notices\, log into the National Site and click on the Mission Tab at the top. Select the Subscribe to Missions option.
URL:https://www.patriotguard.org/mission/richard-hamlyn-veteran-usa-vietnam/
END:VEVENT
END:VCALENDAR