BEGIN:VCALENDAR
VERSION:2.0
PRODID:-//Patriot Guard Riders - ECPv5.3.2.1//NONSGML v1.0//EN
CALSCALE:GREGORIAN
METHOD:PUBLISH
X-WR-CALNAME:Patriot Guard Riders
X-ORIGINAL-URL:https://www.patriotguard.org
X-WR-CALDESC:Events for Patriot Guard Riders
BEGIN:VTIMEZONE
TZID:America/New_York
BEGIN:DAYLIGHT
TZOFFSETFROM:-0500
TZOFFSETTO:-0400
TZNAME:EDT
DTSTART:20160313T070000
END:DAYLIGHT
BEGIN:STANDARD
TZOFFSETFROM:-0400
TZOFFSETTO:-0500
TZNAME:EST
DTSTART:20161106T060000
END:STANDARD
END:VTIMEZONE
BEGIN:VEVENT
DTSTART;TZID=America/New_York:20160630T090000
DTEND;TZID=America/New_York:20160630T110000
DTSTAMP:20210403T064438
CREATED:20160630T130000Z
LAST-MODIFIED:20191201T144720Z
UID:410949-1467277200-1467284400@www.patriotguard.org
SUMMARY:Richard H. Myers\, 69\, USMC\, Vietnam / Charlotte Hall
DESCRIPTION:Richard H. Myers\nU.S. Marine Corps Veteran\nA Vietnam Veteran\n30 June 2016\n\n\nThe Patriot Guard Riders have been asked to escort Richard Henry Myers and his family to Cheltenham Veterans Cemetery\, Cheltenham\, MD\, the site of his final resting place\, on 30 June 2016.  We are honored to do so. \nMr. Myers\, age 69\, of Mechanicsville\, MD\, died on 19 June 2016 after a brief but valiant battle with cancer.  After  High School\, he enlisted in the Marine Corps and was sent to Vietnam\,  where he served as a radio operator and forward observer.  After returning home\, he worked as an auto mechanic\, and later went into business for himself with Snap-On-Tools.  He spent 27 years as field manager with the company.  He was a top salesman\, and retired in 2009.  He loved restoring cars\, riding his motorcycle and traveling with his wife.  He  was a member of the Maryland Patriot Guard\, and was very proud to be a  part of the Veterans Day parade every year\, when he rode his motorcycle  to the Vietnam War Memorial to pay respect to his fallen brothers.  Richard was loved and respected by his family\, friends and his community.  He will be missed.   \nEscort on 30 June 16\nStage: 1215 hrs @ Brinsfield-Echols Funeral Home\, 30195 Three Notch Road\, Charlotte Hall\, MD.\nBrief:   1230 hrs\nKSU:   1300 hrs (Time Approximate)\nService:  1340 hrs. Cheltenham Veterans Cemetery\, 11301 Crain Highway\, Cheltenham\, MD. \nRide Captain:  Bruce “Robocop” Gentile @ 301-542-6707  \nIron Horses preferred\, cars welcomed as always.\nLarge hand-held flags are needed for arrival at cemetery for flag line honors.
URL:https://www.patriotguard.org/mission/richard-h-myers-69-usmc-vietnam-charlotte-hall/
CATEGORIES:Archive
END:VEVENT
END:VCALENDAR