BEGIN:VCALENDAR
VERSION:2.0
PRODID:-//Patriot Guard Riders - ECPv5.3.2.1//NONSGML v1.0//EN
CALSCALE:GREGORIAN
METHOD:PUBLISH
X-WR-CALNAME:Patriot Guard Riders
X-ORIGINAL-URL:https://www.patriotguard.org
X-WR-CALDESC:Events for Patriot Guard Riders
BEGIN:VTIMEZONE
TZID:America/New_York
BEGIN:DAYLIGHT
TZOFFSETFROM:-0500
TZOFFSETTO:-0400
TZNAME:EDT
DTSTART:20190310T070000
END:DAYLIGHT
BEGIN:STANDARD
TZOFFSETFROM:-0400
TZOFFSETTO:-0500
TZNAME:EST
DTSTART:20191103T060000
END:STANDARD
END:VTIMEZONE
BEGIN:VEVENT
DTSTART;VALUE=DATE:20190606
DTEND;VALUE=DATE:20190607
DTSTAMP:20210405T043622
CREATED:20190604T005515Z
LAST-MODIFIED:20190604T005515Z
UID:163492-1559779200-1559865599@www.patriotguard.org
SUMMARY:Richard Gale Creed\, Sr
DESCRIPTION:Honor Mission\nRichard Gale Creed\, Sr\, Veteran\nUSNR – WWII\, Korea\nBaton Rouge\, Louisiana – 06-06-19\n\n\n\nABOUT THE MISSION: \nRichard Gale Creed volunteered at 17 years of age during WW-II and sailed in the Atlantic and Pacific war zones; thereafter receiving his Officer Commission in the Naval Reserves. He was called to active duty in the Korean War and served as Commanding Officer of the Navy Destroyer USS Black. He was discharged in 1963.\n\n\nPRIMARY STAGING DETAILS: 06-06-19 \nStaging Time: 09:15 AM\n \nSt Aloysius Catholic Church\n2025 Stuart Avenue\nBaton Rouge\, Louisiana 70808\n\n\nRide Captain: \nSid Gale\nHome: 225-664-0718\nCell: 225-335-6205\nEmail: sidgale@cox.net\n\n\nSpecial Instructions: \nPGR will brief\, set flags\, and be prepared to stand a flag line.\nVisitation: 10:00 AM to 11:00 AM\nMemorial Service: 11:00 AM\nPGR will escort to Roselawn Cemetery at 4045 North Blvd.\, Baton Rouge.\n\n\nFlags & Water:\nFlags will be provided\nIf you have large bike flags\, please bring them.\nWater will be provided.\n\n\n\nSubmitted By: Sidney Gale \nPosition: Louisiana Ride Captain \n\nNote: You do not have to own/ride a motorcycle or be a veteran to join\, and membership is Free. The only requirement is RESPECT! To subscribe to receive mission notices\, log into the National Site and click on the Members tab at the top. Select the Subscribe to PGR Missions option.\n Print This Page
URL:https://www.patriotguard.org/mission/richard-gale-creed-sr/
CATEGORIES:Honor Mission
END:VEVENT
END:VCALENDAR