BEGIN:VCALENDAR
VERSION:2.0
PRODID:-//Patriot Guard Riders - ECPv5.3.2.1//NONSGML v1.0//EN
CALSCALE:GREGORIAN
METHOD:PUBLISH
X-WR-CALNAME:Patriot Guard Riders
X-ORIGINAL-URL:https://www.patriotguard.org
X-WR-CALDESC:Events for Patriot Guard Riders
BEGIN:VTIMEZONE
TZID:America/New_York
BEGIN:DAYLIGHT
TZOFFSETFROM:-0500
TZOFFSETTO:-0400
TZNAME:EDT
DTSTART:20130310T070000
END:DAYLIGHT
BEGIN:STANDARD
TZOFFSETFROM:-0400
TZOFFSETTO:-0500
TZNAME:EST
DTSTART:20131103T060000
END:STANDARD
END:VTIMEZONE
BEGIN:VEVENT
DTSTART;TZID=America/New_York:20130311T090000
DTEND;TZID=America/New_York:20130311T110000
DTSTAMP:20210403T111628
CREATED:20130311T130000Z
LAST-MODIFIED:20191201T121153Z
UID:387435-1362992400-1362999600@www.patriotguard.org
SUMMARY:Richard G. Schmidt\, Sr\, USMC\, WWII Veteran
DESCRIPTION:The family of Richard G. Schmidt\, Sr. have asked us to honor Richard as he is laid to rest.  Richard Schmidt served as a US Marine during WWII\, \nServices will be held @ Falco Caruso & Leonard Funeral Home\n6600 North Browning Road\nPennsauken\, NJ 08109 \nMonday\, March 11\, 2013 – Viewing 9:00 – 11:00 am (flag line should be in position by 8:30)\nService to follow\nEscort to:  Bethel Memorial Park\nCove Road & Westfield Ave\nPennsauken\, NJ 08110 \nRC: TBD\nDon Klein – 908-334-7719
URL:https://www.patriotguard.org/mission/richard-g-schmidt-sr-usmc-wwii-veteran/
CATEGORIES:Archive
END:VEVENT
END:VCALENDAR