BEGIN:VCALENDAR
VERSION:2.0
PRODID:-//Patriot Guard Riders - ECPv5.3.2.1//NONSGML v1.0//EN
CALSCALE:GREGORIAN
METHOD:PUBLISH
X-WR-CALNAME:Patriot Guard Riders
X-ORIGINAL-URL:https://www.patriotguard.org
X-WR-CALDESC:Events for Patriot Guard Riders
BEGIN:VTIMEZONE
TZID:America/New_York
BEGIN:DAYLIGHT
TZOFFSETFROM:-0500
TZOFFSETTO:-0400
TZNAME:EDT
DTSTART:20190310T070000
END:DAYLIGHT
BEGIN:STANDARD
TZOFFSETFROM:-0400
TZOFFSETTO:-0500
TZNAME:EST
DTSTART:20191103T060000
END:STANDARD
END:VTIMEZONE
BEGIN:VEVENT
DTSTART;VALUE=DATE:20190627
DTEND;VALUE=DATE:20190628
DTSTAMP:20210405T041507
CREATED:20190626T151039Z
LAST-MODIFIED:20190626T151039Z
UID:165904-1561593600-1561679999@www.patriotguard.org
SUMMARY:Richard Elwood Swinney
DESCRIPTION:Honor Mission\nRichard Elwood Swinney\, Veteran\nUSA –\nClaremore\, Oklahoma – 06-27-19\n\n\n\nABOUT THE MISSION: \nThe family of Richard Elwood Swinney\, USA Veteran\, has requested the PGR attend the services of their Hero at 10:00AM. We will accompany HERO to Claremore VA center for visitation and back to First Christian Church for the service. After service escort to the Lone Chapel Cemetery\, EW 43 Road for final interment. USA will conduct military honors.\n\n\nPRIMARY STAGING DETAILS: 06-27-19 \nStaging Time: 08:15 AM\n \nFirst Christian Church\n200 E. 5th Street\nClaremore\, Oklahoma 74017\n\n\nRide Captain: \nDick”Kickstand”Fawcett\ndickfawcett1@gmail.com\n918-782-7661\n\n\nSpecial Instructions: \nBriefing: 8:25AM\, mandatory for escort to cemetery.\nFlag line to follow.\nWeather: Clear 87°/73° 0% chance\n\n\nFlags & Water:\nFlags will be provided\nIf you have large bike flags\, please bring them.\nWater WILL NOT be provided\, please bring your own.\n\n\nSubmitted By: Richard Fawcett \nPosition: Oklahoma Assistant State Captain \n\nNote: You do not have to own/ride a motorcycle or be a veteran to join\, and membership is Free. The only requirement is RESPECT! To subscribe to receive mission notices\, log into the National Site and click on the Members tab at the top. Select the Subscribe to PGR Missions option.\n Print This Page
URL:https://www.patriotguard.org/mission/richard-elwood-swinney/
CATEGORIES:Honor Mission
END:VEVENT
END:VCALENDAR