BEGIN:VCALENDAR
VERSION:2.0
PRODID:-//Patriot Guard Riders - ECPv5.3.2.1//NONSGML v1.0//EN
CALSCALE:GREGORIAN
METHOD:PUBLISH
X-WR-CALNAME:Patriot Guard Riders
X-ORIGINAL-URL:https://www.patriotguard.org
X-WR-CALDESC:Events for Patriot Guard Riders
BEGIN:VTIMEZONE
TZID:America/New_York
BEGIN:DAYLIGHT
TZOFFSETFROM:-0500
TZOFFSETTO:-0400
TZNAME:EDT
DTSTART:20170312T070000
END:DAYLIGHT
BEGIN:STANDARD
TZOFFSETFROM:-0400
TZOFFSETTO:-0500
TZNAME:EST
DTSTART:20171105T060000
END:STANDARD
END:VTIMEZONE
BEGIN:VEVENT
DTSTART;TZID=America/New_York:20170223T124500
DTEND;TZID=America/New_York:20170223T144500
DTSTAMP:20210403T082113
CREATED:20170223T174500Z
LAST-MODIFIED:20191201T034259Z
UID:341274-1487853900-1487861100@www.patriotguard.org
SUMMARY:Richard E Luper\, USA - Vietnam
DESCRIPTION:Richard E Luper\, Veteran \nUSA – Vietnam \nWright City\, Oklahoma – 23 Feb 2017\n\n[HR][/HR]\nABOUT THE MISSION: \nThe family of Richard Luper USA Vietnam Veteran has asked the Patriot Guard Riders to stand a Flag Line at his Funeral Service to be held on 23 Feb 2017 in Wright City\, OK. Services will be held at the First Baptist Church 200 E. 4th St. at 2:00pm. We will escort the hero to Slater Memorial Cemetery for interment. The Army Honor Guard has been requested to conduct Military Honors. \nPRIMARY STAGING DETAILS: 23 Feb 2017 \n \nPrimary Staging Time: 12:45 P.M.\n\nFirst Baptist Church\n200 E. 4th St.\n\nWright City\, Oklahoma – 74766\n\n\n\n \nRide Captain:\n\nDale “Doc” Young\n580-286-6199\nDale11@classicnet.net\n\n \nSpecial Instructions:\n\nMANDATORY BRIEFING: 1:15pm\nYOU MUST ATTEND THE BRIEFING TO RIDE IN THE ESCORT.\nFLAG LINE: 1:30pm\nWEATHER: Temp Low 51 High 80 Sunny Please dress accordingly Hydrate\n\n \nFlags & Water:\n\nFlags Will Be Provided\n\nIf you have large bike flags\, please bring them.\n\nWater WILL NOT be provided\, please bring your own.\n\nSubmitted By: Ronnie Smith\nPosition: Ride Captain \n[HR][/HR]\nNote:\nYou do not have to own/ride a motorcycle or be a Veteran to join and membership is Free. The only requirement is RESPECT! To join\, simply go to Patriot Guard website and click on Register. Membership is Free. \nTo subscribe to receive mission notices\, log into the National Site and click on the Mission Tab at the top. Select Upcoming Missions by State. Scroll to the state(s) you would like to receive notices for and click on the green check mark. Detailed instructions are also located in the FAQs on the site by clicking on the Quick Links Tab and selecting FAQs.
URL:https://www.patriotguard.org/mission/richard-e-luper-usa-vietnam/
END:VEVENT
END:VCALENDAR