BEGIN:VCALENDAR
VERSION:2.0
PRODID:-//Patriot Guard Riders - ECPv5.6.0//NONSGML v1.0//EN
CALSCALE:GREGORIAN
METHOD:PUBLISH
X-WR-CALNAME:Patriot Guard Riders
X-ORIGINAL-URL:https://www.patriotguard.org
X-WR-CALDESC:Events for Patriot Guard Riders
BEGIN:VTIMEZONE
TZID:America/New_York
BEGIN:DAYLIGHT
TZOFFSETFROM:-0500
TZOFFSETTO:-0400
TZNAME:EDT
DTSTART:20160313T070000
END:DAYLIGHT
BEGIN:STANDARD
TZOFFSETFROM:-0400
TZOFFSETTO:-0500
TZNAME:EST
DTSTART:20161106T060000
END:STANDARD
END:VTIMEZONE
BEGIN:VEVENT
DTSTART;TZID=America/New_York:20160613T090000
DTEND;TZID=America/New_York:20160613T110000
DTSTAMP:20210513T184508
CREATED:20160613T130000Z
LAST-MODIFIED:20191201T145318Z
UID:411488-1465808400-1465815600@www.patriotguard.org
SUMMARY:Richard Dozier Knowles\, 77\, USA Veteran / Pasadena
DESCRIPTION:Richard Dozier Knowles\, 77\nU.S. Army / Veteran\nPasadena\, FL. / St. Petersburg\, FL.\nMonday\, June 13\, 2016\n\n\n\nThe Family of PFC Richard Dozier Knowles has graciously invited the Patriot Guard Riders to escort their loved one to Bay Pines National Cemetery and stand in final respects for their Hero. \nPFC Knowles served in the US Army from 10/30/61 to 10/30/63\, serving in Co B 14th QM Bn. \nUpon completion of his service to the Country\, PFC Knowles Received an Honorable Discharge and awarded a Good Conduct Medal and Sharpshooter Badge. \nPFC Knowles was an active Board Member at American Legion Post 158\, Treasure Island\, FL.\, and loved fishing during his free time. \nHis wife Sandi Knowles and son survive PFC Knowles. \nPlease bring your 3 x 5 American Flags and stand for this Hero\, as he did for our Nation and us. \nNote: This is a two-part mission. \nPart 1 is an escort only (approximately 7 miles) from the church in Pasadena\, FL. to St. Petersburg. \nPart 2 is a committal service at Bay Pines National Cemetery\, St. Petersburg. \nFlag Bikes are strongly encouraged. \nItinerary:\nPart I – Escort\nTradewinds Christian Church\n6740 Park Street South\nSouth Pasadena\, FL.\, 33707 \nMap: https://goo.gl/KmZgau \nStaging: 1245 hrs \nBrief: 1300 hrs \nKSU: 1315 hrs\n\nPart II – Committal\nBay Pines National Cemetery\n10000 Bay Pines Blvd.\nSt. Petersburg\, FL.\, 33708 \nMap: https://goo.gl/gQWh7K \nStage: 1330 hrs (Or upon arrival of escort) \nBrief: 1345 hrs \nFlag Line: As determined by R/C \nService:            1415 hrs \nRide Captain:\nRandall “Tourguide” McNabb\nrandallmcnabb@yahoo.com\n727-643-3325 \nRespectfully submitted:\nDavid “Flyboy” Shelton\nFL ASC
URL:https://www.patriotguard.org/mission/richard-dozier-knowles-77-usa-veteran-pasadena/
END:VEVENT
END:VCALENDAR