BEGIN:VCALENDAR
VERSION:2.0
PRODID:-//Patriot Guard Riders - ECPv5.6.0//NONSGML v1.0//EN
CALSCALE:GREGORIAN
METHOD:PUBLISH
X-WR-CALNAME:Patriot Guard Riders
X-ORIGINAL-URL:https://www.patriotguard.org
X-WR-CALDESC:Events for Patriot Guard Riders
BEGIN:VTIMEZONE
TZID:America/New_York
BEGIN:DAYLIGHT
TZOFFSETFROM:-0500
TZOFFSETTO:-0400
TZNAME:EDT
DTSTART:20160313T070000
END:DAYLIGHT
BEGIN:STANDARD
TZOFFSETFROM:-0400
TZOFFSETTO:-0500
TZNAME:EST
DTSTART:20161106T060000
END:STANDARD
END:VTIMEZONE
BEGIN:VEVENT
DTSTART;TZID=America/New_York:20160628T090000
DTEND;TZID=America/New_York:20160628T110000
DTSTAMP:20210512T221140
CREATED:20160628T130000Z
LAST-MODIFIED:20191201T144750Z
UID:410997-1467104400-1467111600@www.patriotguard.org
SUMMARY:Richard Dinkelman\, USN
DESCRIPTION:John Richard Dickelman\nUSN – USA Veteran\nDanville\, IL\n28 Jun 16\n\n\n\nThe family of Richard Dinkelman Request the presence of the Patriot Guard Riders and the American Legion Riders at a visitation and Funeral Service for our Brother and his wife who passed three days after his passing. \nA visitation for John and his beloved Bertha\, who passed away a short three days after him\, will be on Tuesday\, June 28\, 2016 from 1-3pm at Pape Family Funeral Home\, 10 E. Williams St.\, Danville\, IL\, with honors provided by the Patriot Guard. Funeral Services will follow at 3pm. \nStaging:  1215 hrs (12:15 pm) Pape Family Funeral Home\, 10 E. Williams St.\, Danville\, IL \nBriefing 1230 hrs (12:30 pm) we will establish our flag line immediately following the briefing \nThere will be no burial services until a later date. \nRide Captain:\nMike Longfellow\n217-260-4794 \nSupport:\nPete Powell\n217-304-1967
URL:https://www.patriotguard.org/mission/richard-dinkelman-usn/
CATEGORIES:Archive
END:VEVENT
END:VCALENDAR