BEGIN:VCALENDAR
VERSION:2.0
PRODID:-//Patriot Guard Riders - ECPv5.3.2.1//NONSGML v1.0//EN
CALSCALE:GREGORIAN
METHOD:PUBLISH
X-WR-CALNAME:Patriot Guard Riders
X-ORIGINAL-URL:https://www.patriotguard.org
X-WR-CALDESC:Events for Patriot Guard Riders
BEGIN:VTIMEZONE
TZID:America/New_York
BEGIN:DAYLIGHT
TZOFFSETFROM:-0500
TZOFFSETTO:-0400
TZNAME:EDT
DTSTART:20190310T070000
END:DAYLIGHT
BEGIN:STANDARD
TZOFFSETFROM:-0400
TZOFFSETTO:-0500
TZNAME:EST
DTSTART:20191103T060000
END:STANDARD
END:VTIMEZONE
BEGIN:VEVENT
DTSTART;VALUE=DATE:20190710
DTEND;VALUE=DATE:20190711
DTSTAMP:20210404T025028
CREATED:20190705T193131Z
LAST-MODIFIED:20190705T193131Z
UID:166621-1562716800-1562803199@www.patriotguard.org
SUMMARY:Richard "Denny" Begley
DESCRIPTION:Honor Mission\nRichard “Denny” Begley\, Retired\nUSA \, USAR – Vietnam\nSun City\, Arizona – 07-10-19\n\n\n\n\nABOUT THE MISSION: \nRichard Begley is a United States Army Veteran. He served 20 years\, including time in Vietnam. After being released from active duty\, Denny was transferred to the United States Army Reserves\, having attained the rank of Sergeant First Class. Denny became a recruiter in the Reserves.Denny was awarded National Defense Service Medal\, Vietnam Service Medal\, Vietnam Campaign Medal\, Presidential Unit Citation\, Air Force Longevity Award\, Small Arms Expert Medal\, Army Reserve Components Achievement Medal\, Gold Recruiter Badge\, Rifle M16 Sharpshooter Badge\, Good Conduct Medal. Having completed his term of service\, Denny was honorably discharge on August 31\, 1979.\n\n\nPRIMARY STAGING DETAILS: 07-10-19 \nStaging Time: 07:45 am \nMenke Funeral Home\n12420 N. 103rd. Ave.\nSun City\, Arizona 85351\n\n\nRide Captain: \nDavid “Murf” Murphy\n480-406-4049\nazpgrmurf@gmail.com\n\nLead Road Guard: Jim Anderson\n\n\nSpecial Instructions: \nCircle of Honor: 8:10 AM\nKSU: 8:25 AM\nMilitary Honors: 9:30 AM\n\n\nFlags & Water:\nFlags will not be provided\nIf you have large bike flags\, please bring them.\nWater WILL NOT be provided\, please bring your own.\n\nSTAGING #2 DETAILS: 07-10-19 \nStaging Time: 08:50 am \nNational Memorial Cemetery of Arizona\, Visitor’s Center\n23029 N. Cave Creek Rd\nPhoenix\, Arizona 85024\n\n\nRide Captain: \nDavid “Murf” Murphy\n480-406-4049\nazpgrmurf@gmail.com\n\nFlag Captain: Bill “Popeye” Johnson\n\n\nSpecial Instructions: \nSet Flag Line: 9:15 AM\nMilitary Honors: 9:30 AM\n\n\nFlags & Water:\nFlags will be provided\nLarge Bike Flags will NOT be needed.\nWater will be provided.\n\nSubmitted By: David Murphy \nPosition: Arizona Assistant State Captain \n\nNote: You do not have to own/ride a motorcycle or be a veteran to join\, and membership is Free. The only requirement is RESPECT! To subscribe to receive mission notices\, log into the National Site and click on the Members tab at the top. Select the Subscribe to PGR Missions option.\n Print This Page
URL:https://www.patriotguard.org/mission/richard-denny-begley/
CATEGORIES:Honor Mission
END:VEVENT
END:VCALENDAR